Workbook
Name _GoBack: 'อบ1.1'!#REF!
Name _GoBack: 'อบ1.3'!#REF!
Name a: 'ป 4.3'!$WVE$1
Name a: 'ป 4.2'!$WVD$1

Sheet สรุป
E2: สถิตินักเรียน
E3: โรงเรียนเทศบาล 1 หนองใส
E4: =สถิต68!A2 -> ข้อมูล วันที่ 9 มิถุนายน 2568
E5: ชั้น | F5: จำนวนห้องเรียน | G5: จำนวนนักเรียน
G6: ชาย | H6: หญิง | I6: รวม
E7: อนุบาล | F7: 6 | G7: =สถิต68!B13 -> 70 | H7: =สถิต68!C13 -> 51 | I7: =H7+G7 -> 121
E8: ประถมศึกษาปีที่1-3 | F8: 9 | G8: =สถิต68!B26 -> 114 | H8: =สถิต68!C26 -> 123 | I8: =H8+G8 -> 237
E9: ประถมศึกษาปีที่4-6 | F9: 9 | G9: =สถิต68!B39 -> 116 | H9: =สถิต68!C39 -> 136 | I9: =H9+G9 -> 252
E10: มัธยมศึกษา | F10: 6 | G10: =สถิต68!B50 -> 119 | H10: =สถิต68!C50 -> 90 | I10: =H10+G10 -> 209
E11: รวมทั้งสิ้น | F11: =SUM(F7:F10) -> 30 | G11: =SUM(G7:G10) -> 419 | H11: =SUM(H7:H10) -> 400 | I11: =SUM(I7:I10) -> 819

Sheet สรุปรับนักเรียน
E2: โรงเรียนเทศบาล 1 หนองใส รับสมัครนักเรียน | J2: รวมซ้ำชั้น | K2: หมายเหตุ
E3: ปีการศึกษา 2568
E4: =สถิต68!A2 -> ข้อมูล วันที่ 9 มิถุนายน 2568
E5: ชั้น | F5: จำนวนห้องเรียน | G5: จำนวนนักเรียน
G6: ชาย | H6: หญิง | I6: รวม
E7: อนุบาล 1 | F7: 3 | G7: =สถิต68!B8 -> 29 | H7: =สถิต68!C8-1 -> 25 | I7: =H7+G7 -> 54 | J7: =I7 -> 54 | K7: เข้าอนุบาล 2 3 คน
E8: ประถมศึกษาปีที่1 | F8: 3 | G8: =สถิต68!B17 -> 31 | H8: =สถิต68!C17 -> 39 | I8: =H8+G8 -> 70 | J8: =I8+1 -> 71 | K8: ซ้ำชั้น ป.1-3 1 คน
E9: มัธยมศึกษาปีที่ 1 | F9: 2 | G9: =สถิต68!B43-6-6 -> 37 | H9: =สถิต68!C43-4-4 -> 31 | I9: =H9+G9 -> 68 | J9: =I9+4+6+4+6 -> 88 | K9: ซ้ำชั้น ม.1 20 คน
E10: รวมทั้งสิ้น | F10: =SUM(F7:F9) -> 8 | G10: =SUM(G7:G9) -> 97 | H10: =SUM(H7:H9) -> 95 | I10: =SUM(I7:I9) -> 192 | J10: =SUM(J7:J9) -> 213

Sheet เลขนักเรียนล่าสุด
A2: ปีการศึกษา 2566
A3: โรงเรียนเทศบาล 1 หนองใส เทศบาลตำบลหนองบัว อำเภอเมือง จังหวัดอุดรธานี
A4: ที่ | B4: เลขนักเรียน | C4: เลขประจำตัวประชาชน | D4: ชื่อ-สกุล | E4: ชั้น | F4: วันที่ | G4: หมายเหตุ
A5: 1 | B5: 8252 | C5: 1469901189751 | D5: เด็กชายณัฐวัฒน์ ชันทะชัย | E5: อบ.2/2 | F5: 24/03/68 | G5: ย้ายเข้า
A6: 2 | B6: 8253 | C6: 1419903182567 | D6: เด็กหญิงณปภา ชาระ | E6: ป.3/2 | F6: 31/03/68 | G6: ย้ายเข้า
A7: 3 | B7: 8254 | C7: 1419903109134 | D7: เด็กหญิงศิวภา ใจสอาด | E7: ป.4/3 | F7: 31/03/68 | G7: ย้ายเข้า
A8: 4 | B8: 8255 | C8: 1419902926571 | D8: เด็กชายภูวดล ดุลย์สุข | E8: ป.6/1 | F8: 31/03/68 | G8: ย้ายเข้า
A9: 5 | B9: 8256 | C9: 1419903229992 | D9: เด็กชายปิยะวัฒน์ พานบูชาวงศ์ | E9: ป.2/3 | F9: 24841 | G9: ย้ายเข้า
A10: 6 | B10: 8257 | C10: 1419903414042 | D10: เด็กหญิงณฐพร ทุมวัน | E10: อบ.2/1 | F10: 30/4/1968 | G10: ย้ายเข้า
A11: 7 | B11: 8258 | C11: 1419902988258 | D11: เด็กชายอิสรภาพ กันตะบุตร | E11: ป.6/2 | G11: ย้ายเข้า
A12: 8 | B12: 8259 | C12: 1429900914869 | D12: เด็กชายภานุวัฒน์ ทาสาลี | E12: ป.3/2 | G12: ย้ายเข้า
A13: 9 | B13: 8260 | C13: 1419902807491 | D13: เด็กชายธนทรัพย์ ไพรสณฑ์ | E13: ม.2/2 | G13: ย้ายเข้า
A14: 10 | B14: 8261 | C14: 1479901183370 | D14: เด็กหญิงงามตา สุคนธชาติ | E14: ป.4/2 | G14: ย้ายเข้า
A15: 11 | B15: 8262 | C15: 1419903043940 | D15: เด็กหญิงนริศรา แสนวัง | E15: ป.2/3 | G15: ย้ายเข้า
A16: 12 | B16: 8263 | C16: 1398800049937 | D16: เด็กชายศิริศักดิ์ อ่อนศิริ | E16: ป.6/1 | G16: ย้ายเข้า
A17: 13 | B17: 8264 | C17: 1419903422959 | D17: เด็กชายณัฐกิตติ์ บุตรเต | E17: อบ.1/1 | G17: เข้าใหม่
A18: 14 | B18: 8265 | C18: 1419903453765 | D18: เด็กชายธนโชติ ตะไลชั่ง | E18: อบ.1/1 | G18: เข้าใหม่
A19: 15 | B19: 8266 | C19: 1439900921181 | D19: เด็กชายธนกร แจ้งไพร | E19: อบ.1/1 | G19: เข้าใหม่
A20: 16 | B20: 8267 | C20: 1419903443671 | D20: เด็กชายธนภัทร กงบุราณ | E20: อบ.1/1 | G20: เข้าใหม่
A21: 17 | B21: 8268 | C21: 1419903477028 | D21: เด็กชายธีระภัทร นราพล | E21: อบ.1/1 | G21: เข้าใหม่
A22: 18 | B22: 8269 | C22: 1419903452629 | D22: เด็กชายบดินทรเดชา พาชื่นใจ | E22: อบ.1/1 | G22: เข้าใหม่
... A111: 107 | B111: 8358 | C111: 1239900668576 | D111: เด็กชายศรัณย์ พักสงคราม | E111: อบ 2/3 | G111: ย้ายเข้า
A112: 108 | B112: 8359
A113: 109 | B113: 8360
A114: 110 | B114: 8361
A115: 111 | B115: 8362
A116: 112 | B116: 8363
A117: 113 | B117: 8364
A118: 114 | B118: 8365
A119: 115 | B119: 8366
A120: 116 | B120: 8367
A121: 117 | B121: 8368
A122: 118 | B122: 8369
A123: 119 | B123: 8370
A124: 120
A125: 121
A126: 122
A127: 123
A128: 124
A129: 125
A130: 126
A131: 127
A132: 128
A133: 129
A134: 130
A135: 131
... A269: 265
A270: 266 | B270: 8252
A271: 267 | B271: 8253
A272: 268 | B272: 8254
A273: 269 | B273: 8255
A274: 270 | B274: 8256
A275: 271 | B275: 8257
A276: 272 | B276: 8258
A277: 273 | B277: 8259
A278: 274 | B278: 8260
A279: 275 | B279: 8261
A280: 276 | B280: 8262
A281: 277 | B281: 8263
... A302: 298 | B302: 8284
A303: 299

Sheet ย้ายเข้า
A1: นักเรียนเข้า
A2: ปีการศึกษา 2568
A3: โรงเรียนเทศบาล 1 หนองใส เทศบาลตำบลหนองบัว อำเภอเมือง จังหวัดอุดรธานี
A4: ที่ | B4: เลขนักเรียน | C4: เลขประจำตัวประชาชน | D4: ชื่อ-สกุล | E4: ชั้น | F4: วันที่ | G4: หมายเหตุ
A5: 1 | B5: 8252 | C5: 1469901189751 | D5: เด็กชายณัฐวัฒน์ ชันทะชัย | E5: อบ.2/2 | F5: 24/03/68
A6: 2 | B6: 8253 | C6: 1419903182567 | D6: เด็กหญิงณปภา ชาระ | E6: ป.3/2 | F6: 31/03/68
A7: 3 | B7: 8254 | C7: 1419903109134 | D7: เด็กหญิงศิวภา ใจสอาด | E7: ป.4/3 | F7: 31/03/68
A8: 4 | B8: 8255 | C8: 1419902926571 | D8: เด็กชายภูวดล ดุลย์สุข | E8: ป.6/1 | F8: 31/03/68
A9: 5 | B9: 8256 | C9: 1419903229992 | D9: เด็กชายปิยะวัฒน์ พานบูชาวงศ์ | E9: ป.2/3 | F9: 1/04/68
A10: 6 | B10: 8257 | C10: 1419903414042 | D10: เด็กหญิงณฐพร ทุมวัน | E10: อบ.2/1
A11: 7 | B11: 8258 | C11: 1419902988258 | D11: เด็กชายอิสรภาพ กันตะบุตร | E11: ป.6/2
A12: 8 | B12: 8259 | C12: 1429900914869 | D12: เด็กชายภานุวัฒน์ ทาสาลี | E12: ป.3/2
A13: 9 | B13: 8260 | C13: 1419902807491 | D13: เด็กชายธนทรัพย์ ไพรสณฑ์ | E13: ม.2/2
A14: 10 | B14: 8261 | C14: 1479901183370 | D14: เด็กหญิงงามตา สุคนธชาติ | E14: ป.4/1
A15: 11 | B15: 8262 | C15: 1419903043940 | D15: เด็กหญิงนริศรา แสนวัง | E15: ป.2/3
A16: 12 | B16: 8068 | C16: 1419903212750 | D16: เด็กหญิงสุภัสตรา เทินสระเกษ | E16: ป.3/2
A17: 13 | B17: 8263 | C17: 1398800049937 | D17: เด็กชายศิริศักดิ์ อ่อนศิริ | E17: ป.6/1
A18: 14 | B18: 8350 | C18: 1417500141135 | D18: เด็กชายอนวัช สุจิมงคล | E18: ป.6/3
A19: 15 | B19: 8351 | C19: 1419903058246 | D19: เด็กหญิงเมธาวี วรรณบุรณ์ | E19: ป.5/2
A20: 16 | B20: 8352 | C20: 1648600130886 | D20: เด็กหญิงสุทธิดา อินตะนน | E20: ป.4/2
A21: 17 | B21: 8353 | C21: 1769901011002 | D21: เด็กหญิงศิวเนตร อินทร์เรืองศร | E21: ป.6/2 | G21: รอเอกสารย้าย
A22: 18 | B22: 8354 | C22: 1409904541986 | D22: เด็กชายพัฒนศักดิ์ ศรีอักษร | E22: ป.3/3 | G22: รอเอกสารย้าย
A23: 19 | B23: 8355 | C23: 1409904541986 | D23: เด็กชายธนัช ณะหนองตูม | E23: ป.3/2 | G23: รอเอกสารย้าย
A24: 20 | B24: 8356 | C24: 1559900737362 | D24: เด็กชายรุ่งเพชร บุญทาวงศ์ | E24: ป.2/1 | G24: รอเอกสารย้าย
A25: 21 | B25: 8357 | C25: 1239900618218 | D25: เด็กชายศิลา จงไพศาล | E25: ป.3/3 | G25: รอเอกสารย้าย
A26: 22 | B26: 8358 | C26: 1239900668576 | D26: เด็กชายศรัณย์ พักสงคราม | E26: อบ 2/3 | G26: รอเอกสารย้าย
A27: 23
A28: 24
A29: 25
A30: 26
A31: 27
A32: 28
A33: 29
A34: 30
A35: 31
A36: 32
A37: 33
A38: 34
... A133: 129

Sheet ย้ายออก
A1: นักเรียนย้าย
A2: ปีการศึกษา 2568
A3: โรงเรียนเทศบาล 1 หนองใส เทศบาลตำบลหนองบัว อำเภอเมือง จังหวัดอุดรธานี
A4: ที่ | B4: วันที่ | C4: เลขประจำตัวประชาชน | D4: ชื่อ-สกุล | E4: ชั้น | F4: วันที่ | G4: ย้ายไป
A5: 1 | B5: 7984 | C5: 1103400315483 | D5: เด็กหญิงจิดาภา พุ่มอรุณ | E5: ป.5/1 | F5: 24/04/68 | G5: โรงเรียนการัญศึกษา จ.นนทบุรี
A6: 2 | B6: 8234 | C6: 2004600010872 | D6: เด็กชายแอนสัน ชาค | E6: อบ.2/2 | F6: 24/04/68 | G6: โรงเรียนอุดรคริสเตียนวิทยา จ.อุดรธานี
A7: 3 | B7: 8249 | C7: 1399900586498 | D7: เด็กหญิงภัทรธิดา พวงจันทร์ | E7: ป.3/2 | F7: 24/04/68 | G7: โรงเรียนอนุบาลเทศบาลตำบลนาเหล่า จ.หนองบัวลำภู
A8: 4 | B8: 8068 | C8: 1419903212750 | D8: เด็กหญิงสุภัสตรา เทินสระเกษ | E8: ป.3/2 | F8: 24/04/68 | G8: โรงเรียนบ้านโรงหับา จ.ชลบุรี
A9: 5 | B9: 8200 | C9: 1419903381241 | D9: เด็กหญิงมินตรา ศรีสวัสดิ์ | E9: อบ.2/3 | F9: 24933
A10: 6 | B10: 8201 | C10: 1419903276511 | D10: เด็กหญิงวารี ศรีสวัสดิ์ | E10: ป.2/1 | F10: 24933
A11: 7 | B11: 8246 | C11: 1419903093211 | D11: เด็กชายภัทรดนัย เม้าราษี | E11: ป.4/2
A12: 8 | B12: 7655 | C12: 1419903100323 | D12: เด็กชายณิชพน คำมุกชิก | E12: ป.4/3
A13: 9 | B13: 8064 | C13: 16199000683440 | D13: เด็กชายกตันญญ์ อัมระนันท์ | E13: ป.3/2
A14: 10 | B14: 7979 | C14: 1102004780221 | D14: เด็กชายนิพิฐพนธ์ แสนจันทร์ | E14: ป.3/3
A15: 11 | B15: 7452 | C15: 1860700268970 | D15: เด็กชายพีรวัชร์ พรมตู้ | E15: ป.6/1
A16: 12 | B16: 8192 | C16: 1810401280862 | D16: เด็กชายอัฟฟาน เล่เล็ก | E16: ป.6/3
A17: 13 | B17: 6962 | C17: 1419902720352 | D17: เด็กชายภูษิต บุระวัตร | E17: ม.2/2
A18: 14 | B18: 6953 | C18: 1419902683791 | D18: เด็กชายธนบดี พรมมัชชะ | E18: ม.3/2
A19: 15 | B19: 7506 | C19: 1419902978040 | D19: เด็กหญิงจรินทร์พร เกษสวัสดิ์ | E19: ป.5/3
A20: 16 | B20: 7848 | C20: 1419902862351 | D20: เด็กชายธีรเดช พรหมวรรณ | E20: ป.5/3
A21: 17 | B21: 8109 | C21: 141990266049 | D21: เด็กหญิงพรนิภา สารีโท | E21: ม.2/2
A22: 18 | B22: 8188 | C22: 1419903106020 | D22: เด็กหญิงพรชนก สาโร | E22: ป.4/2
... A24: 20 | B24: 8110 | C24: 1459901770321 | D24: เด็กชายธนบดี ระอิงคำ | E24: ป.2/3
A25: 21
A26: 22
A27: 23
A28: 24
A29: 25
A30: 26
A31: 27
A32: 28
A33: 29
A34: 30
A35: 31
A36: 32
... A80: 75

Sheet สถิต68
A1: สถิตินักเรียนมาเรียนประจำวัน โรงเรียนเทศบาล 1 หนองใส ปีการศึกษา 2568
A2: ข้อมูล วันที่ 9 มิถุนายน 2568
A3: ชั้น | B3: จำนวนนักเรียน | E3: มาเรียน | H3: ไม่มาเรียน | L3: มาเรียน ร้อยละ | M3: ครูประจำชั้น
B4: ชาย | C4: หญิง | D4: รวม | E4: ชาย | F4: หญิง | G4: รวม | H4: ป่วย | I4: ลา | J4: ขาด | K4: รวม
A5: อนุบาล 1/1 | B5: ='อบ1.1'!$D$27 -> 9 | C5: ='อบ1.1'!$D$28 -> 9 | D5: =SUM(B5:C5) -> 18 | G5: =F5+E5 -> 0 | K5: =J5+I5+H5 -> 0 | L5: =(G5*100)/D5 -> 0
A6: อนุบาล 1/2 | B6: ='อบ1.2'!$D$25 -> 9 | C6: ='อบ1.2'!$D$26 -> 9 | D6: =SUM(B6:C6) -> 18 | G6: =F6+E6 -> 0 | K6: =J6+I6+H6 -> 0 | L6: =(G6*100)/D6 -> 0
A7: อนุบาล 1/3 | B7: ='อบ1.3'!$D$29 -> 11 | C7: ='อบ1.3'!$D$30 -> 8 | D7: =SUM(B7:C7) -> 19 | G7: =F7+E7 -> 0 | K7: =J7+I7+H7 -> 0 | L7: =(G7*100)/D7 -> 0
A8: รวมอนุบาล 1 | B8: =SUM(B5:B7) -> 29 | C8: =SUM(C5:C7) -> 26 | D8: =SUM(D5:D7) -> 55 | E8: =SUM(E5:E7) -> 0 | F8: =SUM(F5:F7) -> 0 | G8: =F8+E8 -> 0 | H8: =SUM(H5:H7) -> 0 | I8: =SUM(I5:I7) -> 0 | J8: =SUM(J5:J7) -> 0 | K8: =SUM(K5:K7) -> 0 | L8: =(G8*100)/D8 -> 0
A9: อนุบาล 2/1 | B9: ='อบ.2.1'!$D$27 -> 13 | C9: ='อบ.2.1'!$D$28 -> 9 | D9: =SUM(B9:C9) -> 22 | G9: =F9+E9 -> 0 | K9: =J9+I9+H9 -> 0 | L9: =(G9*100)/D9 -> 0
A10: อนุบาล 2/2 | B10: ='อบ.2.2'!$D$27 -> 12 | C10: ='อบ.2.2'!$D$28 -> 10 | D10: =SUM(B10:C10) -> 22 | G10: =F10+E10 -> 0 | K10: =J10+I10+H10 -> 0 | L10: =(G10*100)/D10 -> 0
A11: อนุบาล 2/3 | B11: ='อบ.2.3'!$D$27 -> 16 | C11: ='อบ.2.3'!$D$28 -> 6 | D11: =SUM(B11:C11) -> 22 | G11: =F11+E11 -> 0 | K11: =J11+I11+H11 -> 0 | L11: =(G11*100)/D11 -> 0
A12: รวมอนุบาล 2 | B12: =SUM(B9:B11) -> 41 | C12: =SUM(C9:C11) -> 25 | D12: =SUM(D9:D11) -> 66 | E12: =SUM(E9:E11) -> 0 | F12: =SUM(F9:F11) -> 0 | G12: =F12+E12 -> 0 | H12: =SUM(H9:H11) -> 0 | I12: =SUM(I9:I11) -> 0 | J12: =SUM(J9:J11) -> 0 | K12: =SUM(K9:K11) -> 0 | L12: =(G12*100)/D12 -> 0
A13: รวมอนุบาล | B13: =B8+B12 -> 70 | C13: =C8+C12 -> 51 | D13: =D8+D12 -> 121 | E13: =E8+E12 -> 0 | F13: =F8+F12 -> 0 | G13: =F13+E13 -> 0 | H13: =H8+H12 -> 0 | I13: =I8+I12 -> 0 | J13: =J8+J12 -> 0 | K13: =K8+K12 -> 0 | L13: =(G13*100)/D13 -> 0
A14: ป. 1/1 | B14: ='ป 1.1'!$D$34 -> 11 | C14: ='ป 1.1'!$D$35 -> 13 | D14: =SUM(B14:C14) -> 24 | G14: =F14+E14 -> 0 | K14: =J14+I14+H14 -> 0 | L14: =(G14*100)/D14 -> 0
A15: ป. 1/2 | B15: ='ป 1.2'!$D$33 -> 12 | C15: ='ป 1.2'!$D$34 -> 11 | D15: =SUM(B15:C15) -> 23 | G15: =F15+E15 -> 0 | K15: =J15+I15+H15 -> 0 | L15: =(G15*100)/D15 -> 0
A16: ป. 1/3 | B16: ='ป 1.3'!$D$32 -> 8 | C16: ='ป 1.3'!$D$33 -> 15 | D16: =SUM(B16:C16) -> 23 | G16: =F16+E16 -> 0 | K16: =J16+I16+H16 -> 0 | L16: =(G16*100)/D16 -> 0
A17: รวม ป. 1 | B17: =SUM(B14:B16) -> 31 | C17: =SUM(C14:C16) -> 39 | D17: =SUM(D14:D16) -> 70 | E17: =SUM(E14:E15) -> 0 | F17: =SUM(F14:F15) -> 0 | G17: =F17+E17 -> 0 | H17: =SUM(H14:H15) -> 0 | I17: =SUM(I14:I15) -> 0 | J17: =SUM(J14:J15) -> 0 | K17: =SUM(K14:K15) -> 0 | L17: =(G17*100)/D17 -> 0
A18: ป. 2/1 | B18: ='ป 2.1'!$D$36 -> 15 | C18: ='ป 2.1'!$D$37 -> 13 | D18: =SUM(B18:C18) -> 28 | G18: =F18+E18 -> 0 | K18: =J18+I18+H18 -> 0 | L18: =(G18*100)/D18 -> 0
A19: ป. 2/2 | B19: ='ป 2.2'!$D$37 -> 12 | C19: ='ป 2.2'!$D$38 -> 17 | D19: =SUM(B19:C19) -> 29 | G19: =F19+E19 -> 0 | K19: =J19+I19+H19 -> 0 | L19: =(G19*100)/D19 -> 0
A20: ป. 2/3 | B20: ='ป 2.3'!$D$37 -> 12 | C20: ='ป 2.3'!$D$38 -> 16 | D20: =SUM(B20:C20) -> 28 | G20: =F20+E20 -> 0 | K20: =J20+I20+H20 -> 0 | L20: =(G20*100)/D20 -> 0
A21: รวม ป. 2 | B21: =SUM(B18:B20) -> 39 | C21: =SUM(C18:C20) -> 46 | D21: =SUM(D18:D20) -> 85 | E21: =SUM(E18:E20) -> 0 | F21: =SUM(F18:F20) -> 0 | G21: =F21+E21 -> 0 | H21: =SUM(H18:H20) -> 0 | I21: =SUM(I18:I20) -> 0 | J21: =SUM(H21:I21) -> 0 | K21: =SUM(K18:K20) -> 0 | L21: =(G21*100)/D21 -> 0
A22: ป. 3/1 | B22: ='ป 3.1'!$D$37 -> 14 | C22: ='ป 3.1'!$D$38 -> 14 | D22: =SUM(B22:C22) -> 28 | G22: =F22+E22 -> 0 | K22: =J22+I22+H22 -> 0 | L22: =(G22*100)/D22 -> 0
A23: ป. 3/2 | B23: ='ป 3.2'!$D$34 -> 14 | C23: ='ป 3.2'!$D$35 -> 13 | D23: =SUM(B23:C23) -> 27 | G23: =F23+E23 -> 0 | K23: =J23+I23+H23 -> 0 | L23: =(G23*100)/D23 -> 0
A24: ป. 3/3 | B24: ='ป 3.3'!$D$36 -> 16 | C24: ='ป 3.3'!$D$37 -> 11 | D24: =SUM(B24:C24) -> 27 | L24: =(G24*100)/D24 -> 0
A25: รวม ป. 3 | B25: =SUM(B22:B24) -> 44 | C25: =SUM(C22:C24) -> 38 | D25: =SUM(D22:D24) -> 82 | E25: =SUM(E22:E23) -> 0 | F25: =SUM(F22:F23) -> 0 | G25: =F25+E25 -> 0 | H25: =SUM(H22:H23) -> 0 | I25: =SUM(I22:I23) -> 0 | J25: =SUM(J22:J23) -> 0 | K25: =SUM(K22:K23) -> 0 | L25: =(G25*100)/D25 -> 0
A26: รวม ป.1-3 | B26: =B17+B21+B25 -> 114 | C26: =C17+C21+C25 -> 123 | D26: =D17+D21+D25 -> 237 | E26: =E17+E21+E25 -> 0 | F26: =F17+F21+F25 -> 0 | G26: =F26+E26 -> 0 | H26: =H17+H21+H25 -> 0 | I26: =I17+I21+I25 -> 0 | J26: =J17+J21+J25 -> 0 | K26: =K17+K21+K25 -> 0 | L26: =(G26*100)/D26 -> 0
A27: ป. 4/1 | B27: ='ป 4.1'!$D$37 -> 13 | C27: ='ป 4.1'!$D$38 -> 13 | D27: =SUM(B27:C27) -> 26 | G27: =F27+E27 -> 0 | K27: =J27+I27+H27 -> 0 | L27: =(G27*100)/D27 -> 0
A28: ป. 4/2 | B28: ='ป 4.2'!$D$33 -> 10 | C28: ='ป 4.2'!$D$34 -> 12 | D28: =SUM(B28:C28) -> 22 | G28: =F28+E28 -> 0 | K28: =J28+I28+H28 -> 0 | L28: =(G28*100)/D28 -> 0
A29: ป. 4/3 | B29: ='ป 4.3'!$D$37 -> 10 | C29: ='ป 4.3'!$D$38 -> 14 | D29: =SUM(B29:C29) -> 24 | G29: =F29+E29 -> 0 | K29: =J29+I29+H29 -> 0 | L29: =(G29*100)/D29 -> 0
A30: รวม ป. 4 | B30: =SUM(B27:B29) -> 33 | C30: =SUM(C27:C29) -> 39 | D30: =SUM(D27:D29) -> 72 | E30: =SUM(E27:E28) -> 0 | F30: =SUM(F27:F28) -> 0 | G30: =F30+E30 -> 0 | H30: =SUM(H27:H28) -> 0 | I30: =SUM(I27:I28) -> 0 | J30: =SUM(J27:J28) -> 0 | K30: =SUM(K27:K28) -> 0 | L30: =(G30*100)/D30 -> 0
A31: ป. 5/1 | B31: ='ป 5.1'!$D$35 -> 16 | C31: ='ป 5.1'!$D$36 -> 12 | D31: =SUM(B31:C31) -> 28 | G31: =F31+E31 -> 0 | K31: =J31+I31+H31 -> 0 | L31: =(G31*100)/D31 -> 0
A32: ป. 5/2 | B32: ='ป 5.2'!$D$37 -> 15 | C32: ='ป 5.2'!$D$38 -> 14 | D32: =SUM(B32:C32) -> 29 | G32: =F32+E32 -> 0 | K32: =J32+I32+H32 -> 0 | L32: =(G32*100)/D32 -> 0
A33: ป. 5/3 | B33: ='ป 5.3'!$D$36 -> 14 | C33: ='ป 5.3'!$D$37 -> 13 | D33: =SUM(B33:C33) -> 27 | G33: =F33+E33 -> 0 | K33: =J33+I33+H33 -> 0 | L33: =(G33*100)/D33 -> 0
A34: รวม ป. 5 | B34: =SUM(B31:B33) -> 45 | C34: =SUM(C31:C33) -> 39 | D34: =SUM(D31:D33) -> 84 | E34: =SUM(E31:E32) -> 0 | F34: =SUM(F31:F32) -> 0 | G34: =F34+E34 -> 0 | H34: =SUM(H31:H32) -> 0 | I34: =SUM(I31:I32) -> 0 | J34: =SUM(J31:J32) -> 0 | K34: =SUM(K31:K32) -> 0 | L34: =(G34*100)/D34 -> 0
A35: ป. 6/1 | B35: ='ป 6.1 '!$D$37 -> 10 | C35: ='ป 6.1 '!$D$38 -> 21 | D35: =SUM(B35:C35) -> 31 | G35: =F35+E35 -> 0 | K35: =J35+I35+H35 -> 0 | L35: =(G35*100)/D35 -> 0
A36: ป. 6/2 | B36: ='ป 6.2'!$D$38 -> 13 | C36: ='ป 6.2'!$D$39 -> 20 | D36: =SUM(B36:C36) -> 33 | G36: =F36+E36 -> 0 | K36: =J36+I36+H36 -> 0 | L36: =(G36*100)/D36 -> 0
A37: ป. 6/3 | B37: ='ป 6.3'!$D$37 -> 15 | C37: ='ป 6.3'!$D$38 -> 17 | D37: =SUM(B37:C37) -> 32 | G37: =F37+E37 -> 0 | K37: =J37+I37+H37 -> 0 | L37: =(G37*100)/D37 -> 0
A38: รวม ป. 6 | B38: =SUM(B35:B37) -> 38 | C38: =SUM(C35:C37) -> 58 | D38: =SUM(D35:D37) -> 96 | E38: =SUM(E35:E36) -> 0 | F38: =SUM(F35:F36) -> 0 | G38: =F38+E38 -> 0 | H38: =SUM(H35:H36) -> 0 | I38: =SUM(I35:I36) -> 0 | J38: =SUM(J35:J36) -> 0 | K38: =SUM(K35:K36) -> 0 | L38: =(G38*100)/D38 -> 0
A39: รวม ป.4-6 | B39: =B30+B34+B38 -> 116 | C39: =C30+C34+C38 -> 136 | D39: =D30+D34+D38 -> 252 | E39: =E30+E34+E38 -> 0 | F39: =F30+F34+F38 -> 0 | G39: =E39+F39 -> 0 | H39: =H30+H34+K38 -> 0 | I39: =I30+I34+I38 -> 0 | J39: =J30+J34+M38 -> 0 | K39: =K30+K34+K38 -> 0 | L39: =(G39*100)/D39 -> 0
A40: รวมประถม | B40: =B26+B39 -> 230 | C40: =C26+C39 -> 259 | D40: =D26+D39 -> 489 | E40: =E26+E39 -> 0 | F40: =F26+F39 -> 0 | G40: =F40+E40 -> 0 | H40: =H26+H39 -> 0 | I40: =I26+I39 -> 0 | J40: =J26+J39 -> 0 | K40: =K26+K39 -> 0 | L40: =(G40*100)/D40 -> 0
A41: ม. 1/1 | B41: ='ม 1.1'!$D$50 -> 24 | C41: ='ม 1.1'!$D$51 -> 21 | D41: =SUM(B41:C41) -> 45 | G41: =F41+E41 -> 0 | K41: =J41+I41+H41 -> 0 | L41: =(G41*100)/D41 -> 0
A42: ม. 1/2 | B42: ='ม 1.2'!$D$48 -> 25 | C42: ='ม 1.2'!$D$49 -> 18 | D42: =SUM(B42:C42) -> 43 | G42: =F42+E42 -> 0 | K42: =J42+I42+H42 -> 0 | L42: =(G42*100)/D42 -> 0
A43: รวม ม. 1 | B43: =SUM(B41:B42) -> 49 | C43: =SUM(C41:C42) -> 39 | D43: =SUM(D41:D42) -> 88 | E43: =SUM(E41:E42) -> 0 | F43: =SUM(F41:F42) -> 0 | G43: =F43+E43 -> 0 | H43: =SUM(H41:H42) -> 0 | I43: =SUM(I41:I42) -> 0 | J43: =SUM(J41:J42) -> 0 | K43: =SUM(K41:K42) -> 0 | L43: =(G43*100)/D43 -> 0
A44: ม. 2/1 | B44: ='ม 2.1'!$D$44 -> 18 | C44: ='ม 2.1'!$D$45 -> 19 | D44: =SUM(B44:C44) -> 37 | G44: =F44+E44 -> 0 | K44: =J44+I44+H44 -> 0 | L44: =(G44*100)/D44 -> 0
A45: ม. 2/2 | B45: ='ม 2.2'!$D$47 -> 21 | C45: ='ม 2.2'!$D$48 -> 15 | D45: =SUM(B45:C45) -> 36 | G45: =F45+E45 -> 0 | K45: =J45+I45+H45 -> 0 | L45: =(G45*100)/D45 -> 0
A46: รวม ม. 2 | B46: =SUM(B44:B45) -> 39 | C46: =SUM(C44:C45) -> 34 | D46: =SUM(D44:D45) -> 73 | E46: =SUM(E44:E45) -> 0 | F46: =SUM(F44:F45) -> 0 | G46: =F46+E46 -> 0 | H46: =SUM(H44:H45) -> 0 | I46: =SUM(I44:I45) -> 0 | J46: =SUM(J44:J45) -> 0 | K46: =SUM(K44:K45) -> 0 | L46: =(G46*100)/D46 -> 0
A47: ม. 3/1 | B47: ='ม3.1'!$D$33 -> 16 | C47: ='ม3.1'!$D$34 -> 9 | D47: =SUM(B47:C47) -> 25 | G47: =F47+E47 -> 0 | K47: =J47+I47+H47 -> 0 | L47: =(G47*100)/D47 -> 0
A48: ม. 3/2 | B48: ='ม3.2'!$D$38 -> 15 | C48: ='ม3.2'!$D$39 -> 8 | D48: =SUM(B48:C48) -> 23 | G48: =F48+E48 -> 0 | K48: =J48+I48+H48 -> 0 | L48: =(G48*100)/D48 -> 0
A49: รวม ม. 3 | B49: =SUM(B47:B48) -> 31 | C49: =SUM(C47:C48) -> 17 | D49: =SUM(D47:D48) -> 48 | E49: =SUM(E47:E48) -> 0 | F49: =SUM(F47:F48) -> 0 | G49: =F49+E49 -> 0 | H49: =SUM(H47:H48) -> 0 | I49: =SUM(I47:I48) -> 0 | J49: =SUM(J47:J48) -> 0 | K49: =SUM(K47:K48) -> 0 | L49: =(G49*100)/D49 -> 0
A50: รวมมัธยม | B50: =B43+B46+B49 -> 119 | C50: =C43+C46+C49 -> 90 | D50: =D43+D46+D49 -> 209 | E50: =E43+E46+E49 -> 0 | F50: =F43+F46+F49 -> 0 | G50: =F50+E50 -> 0 | H50: =H43+H46+H49 -> 0 | I50: =I43+I46+I49 -> 0 | J50: =J43+J46+J49 -> 0 | K50: =K43+K46+K49 -> 0 | L50: =(G50*100)/D50 -> 0
A51: รวมทั้งสิ้น | B51: =B13+B26+B39+B50 -> 419 | C51: =C13+C26+C39+C50 -> 400 | D51: =D13+D26+D39+D50 -> 819 | E51: =E13+E26+E39+E50 -> 0 | F51: =F13+F26+F39+F50 -> 0 | G51: =F51+E51 -> 0 | H51: =H13+H40+H50 -> 0 | I51: =I13+I40+I50 -> 0 | J51: =J13+J40+J50 -> 0 | K51: =K13+K40+K50 -> 0 | L51: =(G51*100)/D51 -> 0

Sheet อบ1.1
A1: รายชื่อนักเรียนชั้น อบ. 1/1
A2: ปีการศึกษา 2568
A3: โรงเรียนเทศบาล 1 หนองใส เทศบาลตำบลหนองบัว อำเภอเมือง จังหวัดอุดรธานี
A4: ที่ | B4: เลขนักเรียน | C4: เลขประจำตัวประชาชน | D4: ชื่อ-สกุล
A5: 1 | B5: 8264 | C5: 1419903422959 | D5: เด็กชายณัฐกิตติ์ บุตรเต
A6: 2 | B6: 8265 | C6: 1419903453765 | D6: เด็กชายธนโชติ ตะไลชั่ง
A7: 3 | B7: 8266 | C7: 1439900921181 | D7: เด็กชายธนกร แจ้งไพร
A8: 4 | B8: 8267 | C8: 1419903443671 | D8: เด็กชายธนภัทร กงบุราณ
A9: 5 | B9: 8268 | C9: 1419903477028 | D9: เด็กชายธีระภัทร นราพล
A10: 6 | B10: 8269 | C10: 1419903452629 | D10: เด็กชายบดินทรเดชา พาชื่นใจ
A11: 7 | B11: 8270 | C11: 1419903446459 | D11: เด็กชายภูวดน สีหอมไชย
A12: 8 | B12: 8271 | C12: 1419903451967 | D12: เด็กชายวัชรพล บัวตูม
A13: 9 | B13: 8272 | C13: 1419903459992 | D13: เด็กชายอิทธิพัทธ์ ลีพฤติ
A14: 10 | B14: 8273 | C14: 1419903442151 | D14: เด็กหญิงเพชรไพลิน กงบุราณ
A15: 11 | B15: 8274 | C15: 1419903375667 | D15: เด็กหญิงกรตศกร พาไหม
A16: 12 | B16: 8275 | C16: 1419903435929 | D16: เด็กหญิงจิรัชญา เสาร์แก้ว
... A22: 18 | B22: 8281 | C22: 1419903455610 | D22: เด็กหญิงศิริภัสสร บุตรมาร
A23: 19
A24: 20
C27: นักเรียนชาย | D27: =COUNTIF(D5:D24,"เด็กชาย*") -> 9
C28: นักเรียนหญิง | D28: =COUNTIF(D5:D24,"เด็กหญิง*") -> 9
C29: รวม | D29: =SUM(D27:D28) -> 18

Sheet อบ1.2
A1: รายชื่อนักเรียนชั้น อบ. 1/2
A2: ปีการศึกษา 2568
A3: โรงเรียนเทศบาล 1 หนองใส เทศบาลตำบลหนองบัว อำเภอเมือง จังหวัดอุดรธานี
A4: ที่ | B4: เลขนักเรียน | C4: เลขประจำตัวประชาชน | D4: ชื่อ-สกุล
A5: 1 | B5: 8282 | C5: 1419903437123 | D5: เด็กชายจิมมี่ ค่ำคูณ
A6: 2 | B6: 8283 | C6: 1249901310756 | D6: เด็กชายตะวัน เลือดทหาร
A7: 3 | B7: 8284 | C7: 1419903474843 | D7: เด็กชายธนกร คำสิงห์
A8: 4 | B8: 8285 | C8: 1419903461121 | D8: เด็กชายธนากร สารีโท
A9: 5 | B9: 8286 | C9: 1409904931849 | D9: เด็กชายธีวรา จันทะเฆ่
A10: 6 | B10: 8287 | C10: 1419903449792 | D10: เด็กชายพีรพัฒน์ สารีโท
A11: 7 | B11: 8288 | C11: 1419903470058 | D11: เด็กชายวชิรวิชญ์ โยธาฤทธ์
A12: 8 | B12: 8289 | C12: 1419903414760 | D12: เด็กชายวัชระ กลางจอหอ
A13: 9 | B13: 8290 | C13: 1419903462641 | D13: เด็กชายศุภกิต แสงปาก
A14: 10 | B14: 8291 | C14: 1419903477150 | D14: เด็กหญิงแพรวนภา ดูวิเศษ
A15: 11 | B15: 8292 | C15: 1419903438715 | D15: เด็กหญิงชนาภา หลักหนองบุ
A16: 12 | B16: 8293 | C16: 2009200010535 | D16: เด็กหญิงซาวันนา เดย์ซี่ โกลาน
... A22: 18 | B22: 8299 | C22: 1419903456284 | D22: เด็กหญิงสิรินธารา เชื่อมแก้ว
A23: 19
A24: 20
C25: นักเรียนชาย | D25: =COUNTIF(D5:D24,"เด็กชาย*") -> 9
C26: นักเรียนหญิง | D26: =COUNTIF(D5:D24,"เด็กหญิง*") -> 9
C27: รวม | D27: =SUM(D25:D26) -> 18

Sheet อบ1.3
A1: รายชื่อนักเรียนชั้น อบ. 1/3
A2: ปีการศึกษา 2568
A3: โรงเรียนเทศบาล 1 หนองใส เทศบาลตำบลหนองบัว อำเภอเมือง จังหวัดอุดรธานี
A4: ที่ | B4: เลขนักเรียน | C4: เลขประจำตัวประชาชน | D4: ชื่อ-สกุล
A5: 1 | B5: 8300 | C5: 1419903453081 | D5: เด็กชายเจตน์สฤษธิ์ ชาลีงาม
A6: 2 | B6: 8301 | C6: 1478800134194 | D6: เด็กชายชยณัฐ สุขสว่าง
A7: 3 | B7: 8302 | C7: 1419903466654 | D7: เด็กชายณภัทร อึ้งสุขสมปอง
A8: 4 | B8: 8303 | C8: 1419903473260 | D8: เด็กชายทัชชกร สุขประเสิรฐ
A9: 5 | B9: 8304 | C9: 1419903484067 | D9: เด็กชายธนภัทร ไชยเดช
A10: 6 | B10: 8305 | C10: 1419903421341 | D10: เด็กชายธนาธร ดีงามธนพัฒน์
A11: 7 | B11: 8306 | C11: 1419903459135 | D11: เด็กชายธีรวัฒน์ ไชยคำจันทร์
B12: 8307 | C12: 1419903474797 | D12: เด็กชายพิชญุตม์ ชาภักดี
A13: 8 | B13: 8308 | C13: 1419903435597 | D13: เด็กชายภานุพงศ์ ยมศรีเคน
A14: 9 | B14: 8309 | C14: 1419903434906 | D14: เด็กชายวรวุฒิ โพพิมพ์
A15: 10 | B15: 8310 | C15: 1419903464660 | D15: เด็กชายอาทิวราห์ กองคำ
A16: 11 | B16: 8311 | C16: 1419903438880 | D16: เด็กหญิงกมลชนก กองพันธ์
A17: 12 | B17: 8312 | C17: 1419903458511 | D17: เด็กหญิงชาลิสา เติมสุธา
A18: 13 | B18: 8313 | C18: 1419903462888 | D18: เด็กหญิงนราพร สาระสาร
A19: 14 | B19: 8314 | C19: 1399900701688 | D19: เด็กหญิงบุญบันดาล ศรีประชัย
A20: 15 | B20: 8315 | C20: 1419903442593 | D20: เด็กหญิงปภาดา ไชยเณร
A21: 16 | B21: 8316 | C21: 1419903447421 | D21: เด็กหญิงมลิวรรณ์ ชั่งดี
A22: 17 | B22: 8317 | C22: 1419903482943 | D22: เด็กหญิงวณิดา แก้วคำฝา
A23: 18 | B23: 8318 | C23: 1419903473278 | D23: เด็กหญิงสุจิตตรา จำปาศรี
A24: 19
A25: 20
A26: 21
C29: นักเรียนชาย | D29: =COUNTIF(D5:D26,"เด็กชาย*") -> 11
C30: นักเรียนหญิง | D30: =COUNTIF(D5:D26,"เด็กหญิง*") -> 8
C31: รวม | D31: =SUM(D29:D30) -> 19

Sheet อบ1.4
A1: รายชื่อนักเรียนชั้น อบ. 1/4
A2: ปีการศึกษา 2567
A3: โรงเรียนเทศบาล 1 หนองใส เทศบาลตำบลหนองบัว อำเภอเมือง จังหวัดอุดรธานี
A4: ที่ | B4: เลขนักเรียน | C4: เลขประจำตัวประชาชน | D4: ชื่อ-สกุล
A5: 1
A6: 2
A7: 3
A8: 4
A9: 5
A10: 6
A11: 7
A12: 8
A13: 9
A14: 10
A15: 11
A16: 12
... A36: 32
C37: นักเรียนชาย | D37: =COUNTIF(D5:D36,"เด็กชาย*") -> 0
C38: นักเรียนหญิง | D38: =COUNTIF(D5:D36,"เด็กหญิง*") -> 0
C39: รวม | D39: =SUM(D37:D38) -> 0

Sheet อบ.2.1
A1: รายชื่อนักเรียนชั้น อบ. 2/1
A2: ปีการศึกษา 2568
A3: โรงเรียนเทศบาล 1 หนองใส เทศบาลตำบลหนองบัว อำเภอเมือง จังหวัดอุดรธานี
A4: ที่ | B4: เลขนักเรียน | C4: เลขประจำตัวประชาชน | D4: ชื่อ-สกุล
A5: 1 | B5: 8114 | C5: 1412301054297 | D5: เด็กชายกิตติภัทร จันทวงษ์
A6: 2 | B6: 8115 | C6: 1419903425583 | D6: เด็กชายจักรินทร์ สีดาดาน
A7: 3 | B7: 8116 | C7: 1419903399108 | D7: เด็กชายภูมิรัตน์ พิมสระเกษ
A8: 4 | B8: 8117 | C8: 1419903368709 | D8: เด็กชายธนภัทร วีระวัฒนา
A9: 5 | B9: 8118 | C9: 1418000198201 | D9: เด็กชายธัญเทพ หลักกอ
A10: 6 | B10: 8119 | C10: 1419903411949 | D10: เด็กชายนราศักดิ์ บุญทา
A11: 7 | B11: 8120 | C11: 1419903407631 | D11: เด็กชายภูเมศ พรมโนนศรี
A12: 8 | B12: 8121 | C12: 1419903395897 | D12: เด็กชายสรวิชญ์ สัพโส
A13: 9 | B13: 8122 | C13: 1103200489585 | D13: เด็กชายอริยทรัพย์ เศรษฐพัฒน์กิจ
A14: 10 | B14: 8123 | C14: 1399900682861 | D14: เด็กชายอภิชัย นาควารี
A15: 11 | B15: 8125 | C15: 1419903384011 | D15: เด็กหญิงชญานันต์ นิลพัตร์
A16: 12 | B16: 8126 | C16: 1419903373451 | D16: เด็กหญิงชุติกาญจน์ ดำเวียงคำ
... A26: 22 | B26: 8320 | C26: 1419903411523 | D26: เด็กหญิงชญานิษฐ์ กุจพันธุ์
C27: นักเรียนชาย | D27: =COUNTIF(D5:D26,"เด็กชาย*") -> 13
C28: นักเรียนหญิง | D28: =COUNTIF(D5:D26,"เด็กหญิง*") -> 9
C29: รวม | D29: =SUM(D27:D28) -> 22

Sheet อบ.2.2
A1: รายชื่อนักเรียนชั้น อบ. 2/2
A2: ปีการศึกษา 2568
A3: โรงเรียนเทศบาล 1 หนองใส เทศบาลตำบลหนองบัว อำเภอเมือง จังหวัดอุดรธานี
A4: ที่ | B4: เลขนักเรียน | C4: เลขประจำตัวประชาชน | D4: ชื่อ-สกุล
A5: 1 | B5: 8132 | C5: 1419903385280 | D5: เด็กชายธนชัย ศรีสมบัติ
A6: 2 | B6: 8134 | C6: 1419903364631 | D6: เด็กชายธีรพล นนท์ยะโส
A7: 3 | B7: 8135 | C7: 1419903368610 | D7: เด็กชายพิชญะ จันทกรณ์
A8: 4 | B8: 8136 | C8: 1419903404853 | D8: เด็กชายรัทธิกร ลีพฤติ
A9: 5 | B9: 8137 | C9: 1419903363901 | D9: เด็กชายอนุวัฒน์ จันทร์หอม
A10: 6 | B10: 8138 | C10: 1419903425010 | D10: เด็กชายอัครวินท์ กงบุราณ
A11: 7 | B11: 8139 | C11: 1419903408913 | D11: เด็กหญิงกันติชา นามอาษา
A12: 8 | B12: 8141 | C12: 1219700152380 | D12: เด็กหญิงชุติกาญจน์ พาหนองเป็ด
A13: 9 | B13: 8142 | C13: 1419903383651 | D13: เด็กหญิงนิรดา สารีโท
A14: 10 | B14: 8143 | C14: 1419903419681 | D14: เด็กหญิงเมญารินทร์ แก้วอินทร์ศรี
A15: 11 | B15: 8144 | C15: 1419903406171 | D15: เด็กหญิงสิริวิมล นูเพ็งฐ์
A16: 12 | B16: 8186 | C16: 1419903428311 | D16: เด็กชายสุรพัฒน์ นนทีจักร
... A26: 22 | B26: 8323 | C26: 1419903381993 | D26: เด็กหญิงวรรณวิษา ศรีชัยยศ
C27: นักเรียนชาย | D27: =COUNTIF(D4:D26,"เด็กชาย*") -> 12
C28: นักเรียนหญิง | D28: =COUNTIF(D5:D26,"เด็กหญิง*") -> 10
C29: รวม | D29: =SUM(D27:D28) -> 22

Sheet อบ.2.3
A1: รายชื่อนักเรียนชั้น อบ. 2/3
A2: ปีการศึกษา 2568
A3: โรงเรียนเทศบาล 1 หนองใส เทศบาลตำบลหนองบัว อำเภอเมือง จังหวัดอุดรธานี
A4: ที่ | B4: เลขนักเรียน | C4: เลขประจำตัวประชาชน | D4: ชื่อ-สกุล
A5: 1 | B5: 8145 | C5: 1419903427713 | D5: เด็กชายคฑาวุธ คำภาศรี
A6: 2 | B6: 8146 | C6: 1249901282523 | D6: เด็กชายเตวิช เลือดทหาร
A7: 3 | B7: 8147 | C7: 1419903377473 | D7: เด็กชายธนภัทร ชัยชนะ
A8: 4 | B8: 8148 | C8: 1418000193773 | D8: เด็กชายธวัชชัย ปุริมายะดา
A9: 5 | B9: 8149 | C9: 1419903387592 | D9: เด็กชายนนทกานต์ ชนะสุริยะเกียรติ
A10: 6 | B10: 8150 | C10: 1103705509478 | D10: เด็กชายภัคพล สุขแป้น
A11: 7 | B11: 8151 | C11: 1489900897117 | D11: เด็กชายศุภชัย หล่อนน้อย
A12: 8 | B12: 8152 | C12: 1419903412112 | D12: เด็กชายอเนชา พรรณโส
A13: 9 | B13: 8153 | C13: 1418000195059 | D13: เด็กชายวรากร แก่นวงค์
A14: 10 | B14: 8154 | C14: 1418000195067 | D14: เด็กชายวรายุทธ แก่นวงค์
A15: 11 | B15: 8155 | C15: 1419903421472 | D15: เด็กหญิงกันติชา พลสมัคร
A16: 12 | B16: 8156 | C16: 1419903377511 | D16: เด็กหญิงชนิตา พิมพาที
... A26: 22 | B26: 8358 | C26: 1239900668576 | D26: เด็กชายศรัณย์ พักสงคราม
C27: นักเรียนชาย | D27: =COUNTIF(D5:D26,"เด็กชาย*") -> 16
C28: นักเรียนหญิง | D28: =COUNTIF(D5:D26,"เด็กหญิง*") -> 6
C29: รวม | D29: =SUM(D27:D28) -> 22

Sheet อบ.2.4
A1: รายชื่อนักเรียนชั้น อบ. 2/4
A2: ปีการศึกษา 2568
A3: โรงเรียนเทศบาล 1 หนองใส เทศบาลตำบลหนองบัว อำเภอเมือง จังหวัดอุดรธานี
A4: ที่ | B4: เลขนักเรียน | C4: เลขประจำตัวประชาชน | D4: ชื่อ-สกุล
A5: 1
A6: 2
A7: 3
A8: 4
A9: 5
A10: 6
A11: 7
A12: 8
A13: 9
A14: 10
A15: 11
A16: 12
... A24: 20
C25: นักเรียนชาย | D25: =COUNTIF(D5:D24,"เด็กชาย*") -> 0
C26: นักเรียนหญิง | D26: =COUNTIF(D5:D24,"เด็กหญิง*") -> 0
C27: รวม | D27: =SUM(D25:D26) -> 0

Sheet ป 1.1
A1: รายชื่อนักเรียนชั้น ป. 1/1
A2: ปีการศึกษา 2568
A3: โรงเรียนเทศบาล 1 หนองใส เทศบาลตำบลหนองบัว อำเภอเมือง จังหวัดอุดรธานี
A4: ที่ | B4: เลขนักเรียน | C4: เลขประจำตัวประชาชน | D4: ชื่อ-สกุล
A5: 1 | B5: 7994 | C5: 1419903303879 | D5: เด็กชายกฤษณะ กำพล
A6: 2 | B6: 7997 | C6: 1419903339199 | D6: เด็กชายณัฐพล ยศธแสน
A7: 3 | B7: 7999 | C7: 1419903339199 | D7: เด็กชายธนภัทร เทินสระเกษ
A8: 4 | B8: 8000 | C8: 1419903316229 | D8: เด็กชายธนวัฒน์ ผลวาด
A9: 5 | B9: 8025 | C9: 1419903330906 | D9: เด็กชายกัณฑ์อเนก บุญดี
A10: 6 | B10: 8030 | C10: 1419903307858 | D10: เด็กชายเดโชชัย พิมพาที
A11: 7 | B11: 8034 | C11: 1419903312622 | D11: เด็กชายนวพล คำมุกชิก
A12: 8 | B12: 8130 | C12: 1419903320072 | D12: เด็กชายคชานนท์ สารีโท
A13: 9 | B13: 8194 | C13: 1419903338770 | D13: เด็กชายพงศกร สิงห์คำป้อง
A14: 10 | B14: 8245 | C14: 1419903318132 | D14: เด็กชายคุณานนท์ มานุบุตร
A15: 11 | B15: 8327 | C15: 1419903329525 | D15: เด็กชายชำนาญกิจ ตันปาน
A16: 12 | B16: 8012 | C16: 1419903324396 | D16: เด็กหญิงชรินทร์ทิพย์ วงษ์เพ็ง
B17: 8016 | C17: 1499900847746 | D17: เด็กหญิงณัฐชนก บุญนูน
A18: 13 | B18: 8017 | C18: 1419903370541 | D18: เด็กหญิงณัฐธริกา ปัญจพันดร
A19: 14 | B19: 8019 | C19: 1419903360384 | D19: เด็กหญิงปนัดดา หาสอดส่อง
A20: 15 | B20: 8042 | C20: 1419903323560 | D20: เด็กหญิงกมลพร ใสโยธา
A21: 16 | B21: 8048 | C21: 1419903310921 | D21: เด็กหญิงโชติกา พรรณรังษี
A22: 17 | B22: 8050 | C22: 1419903314986 | D22: เด็กหญิงณัฐณิชา ปุริมายะตา
A23: 18 | B23: 8054 | C23: 1104301758973 | D23: เด็กหญิงปรีญาดา โสมณวัฒน์
A24: 19 | B24: 8105 | C24: 1419903325520 | D24: เด็กหญิงอันดา จูมฟอง
A25: 20 | B25: 8328 | C25: 1419903325023 | D25: เด็กหญิงเอริญา สารีโท
A26: 22 | B26: 8329 | C26: 1419903313203 | D26: เด็กหญิงนิชาภา ใจสอาด
A27: 23 | B27: 8330 | C27: 1729901145688 | D27: เด็กหญิงอรณา ซิงข์
A28: 24 | B28: 8331 | C28: 1419903210501 | D28: เด็กหญิงอธิชา ไคล์น
A29: 29
A30: 30
A31: 31
A32: 32
A33: 33
C34: นักเรียนชาย | D34: =COUNTIF(D5:D33,"เด็กชาย*") -> 11
C35: นักเรียนหญิง | D35: =COUNTIF(D5:D33,"เด็กหญิง*") -> 13
C36: รวม | D36: =SUM(D34:D35) -> 24

Sheet ป 1.2
A1: รายชื่อนักเรียนชั้น ป. 1/2
A2: ปีการศึกษา 2568
A3: โรงเรียนเทศบาล 1 หนองใส เทศบาลตำบลหนองบัว อำเภอเมือง จังหวัดอุดรธานี
A4: ที่ | B4: เลขนักเรียน | C4: เลขประจำตัวประชาชน | D4: ชื่อ-สกุล
A5: 1 | B5: 7996 | C5: 1418800070633 | D5: เด็กชายจิรพัฒน์ เหล็กกล้า
A6: 2 | B6: 7998 | C6: 1419903334405 | D6: เด็กชายธนชัย กุลาดี
A7: 3 | B7: 8002 | C7: 1419903313343 | D7: เด็กชายธีระพงษ์ จันทะพิทักษ์
A8: 4 | B8: 8026 | C8: 1419903319317 | D8: เด็กชายกันติวิชญ์ แสงสว่าง
A9: 5 | B9: 8027 | C9: 1419903352004 | D9: เด็กชายขอบคุณ ทาอ่อน
A10: 6 | B10: 8028 | C10: 1419903341444 | D10: เด็กชายณฐภัทร งามดี
A11: 7 | B11: 8037 | C11: 1419903331007 | D11: เด็กชายรัฏธพล คำมุกชิก
A12: 8 | B12: 8095 | C12: 1419903354180 | D12: เด็กชายบรรณวิชญ์ สุรดะนัย
A13: 9 | B13: 8131 | C13: 1419903296635 | D13: เด็กชายจิรเมธ สมชัยยา
A14: 10 | B14: 8133 | C14: 1419903320587 | D14: เด็กชายธนากร สนสายสิงห์
A15: 11 | B15: 8229 | C15: 1409904754459 | D15: เด็กชายธนพัฒน์ ปะกิระสังข์
A16: 12 | B16: 8332 | C16: 1419903312541 | D16: เด็กชายจักรดุลย์ จันทนะ
... A27: 23 | B27: 8208 | C27: 1700200198176 | D27: เด็กหญิงธิติรัตน์ จันทร์แก้ว
A28: 24
A29: 30
A30: 31
A31: 32
A32: 33
C33: นักเรียนชาย | D33: =COUNTIF(D5:D32,"เด็กชาย*") -> 12
C34: นักเรียนหญิง | D34: =COUNTIF(D5:D32,"เด็กหญิง*") -> 11
C35: รวม | D35: =SUM(D33:D34) -> 23

Sheet ป 1.3
A1: รายชื่อนักเรียนชั้น ป. 1/3
A2: ปีการศึกษา 2568
A3: โรงเรียนเทศบาล 1 หนองใส เทศบาลตำบลหนองบัว อำเภอเมือง จังหวัดอุดรธานี
A4: ที่ | B4: เลขนักเรียน | C4: เลขประจำตัวประชาชน | D4: ชื่อ-สกุล
A5: 1 | B5: 8038 | C5: 1419903359637 | D5: เด็กชายศรีวิศาล มีเทียนชัย
A6: 2 | B6: 8035 | C6: 1419903342581 | D6: เด็กชายพิชยดนย์ บุญตา
A7: 3 | B7: 8031 | C7: 1419903338788 | D7: เด็กชายธนวรรธน์ อุดมสัย
A8: 4 | B8: 8003 | C8: 1418000186611 | D8: เด็กชายวรเมธ แก้ววิเศษ
A9: 5 | B9: 8036 | C9: 1419903362425 | D9: เด็กชายพีระพัฒน์ ไชยคะเนน
A10: 6 | B10: 8029 | C10: 1419903293458 | D10: เด็กชายณัฐดนัย ไชยเกล้า
A11: 7 | B11: 8004 | C11: 1419903290432 | D11: เด็กชายวราฤทธิ์ กงบุราณ
A12: 8 | B12: 8333 | C12: 1478900108900 | D12: เด็กชายภูวดล สุธรรม
A13: 9 | B13: 8013 | C13: 1419903325201 | D13: เด็กหญิงชวิศา ดอกบัวหลวง
A14: 10 | B14: 8055 | C14: 1419903309630 | D14: เด็กหญิงพรธิดา พิมพาที
A15: 11 | B15: 8022 | C15: 1419903338192 | D15: เด็กหญิงมนัชญา มาสุข
A16: 12 | B16: 8043 | C16: 1419903316601 | D16: เด็กหญิงกันยาพร ผิวดำ
... A27: 23 | B27: 8211 | C27: 1419903291480 | D27: เด็กหญิงกมลพร พาไหม
A28: 24
A29: 29
A30: 30
A31: 31
C32: นักเรียนชาย | D32: =COUNTIF(D5:D31,"เด็กชาย*") -> 8
C33: นักเรียนหญิง | D33: =COUNTIF(D5:D31,"เด็กหญิง*") -> 15
C34: รวม | D34: =SUM(D32:D33) -> 23

Sheet ป 2.1
A1: รายชื่อนักเรียนชั้น ป. 2/1
A2: ปีการศึกษา 2568
A3: โรงเรียนเทศบาล 1 หนองใส เทศบาลตำบลหนองบัว อำเภอเมือง จังหวัดอุดรธานี
A4: ที่ | B4: เลขนักเรียน | C4: เลขประจำตัวประชาชน | D4: ชื่อ-สกุล
A5: 1 | B5: 7851 | C5: 1419903218081 | D5: เด็กชายจิระโชค มุ่งพันกลาง
A6: 2 | B6: 7863 | C6: 1419903249041 | D6: เด็กชายธนโชติ ทวีค้ำคูณ
A7: 3 | B7: 7868 | C7: 1419903271462 | D7: เด็กชายนฤเบศถ์ นันทจักร
A8: 4 | B8: 7871 | C8: 1419903303160 | D8: เด็กชายพีรพัฒน์ บุตรมาร
A9: 5 | B9: 7891 | C9: 1419903248258 | D9: เด็กชายตะวัน โคตะมี
A10: 6 | B10: 7894 | C10: 1419903254614 | D10: เด็กชายธีรเทพ สิทธิโห
A11: 7 | B11: 7898 | C11: 1419903236880 | D11: เด็กชายพชรเดช พงษาเทศ
A12: 8 | B12: 7902 | C12: 1419903249050 | D12: เด็กชายภูวนนท์ ศิรินาม
A13: 9 | B13: 7905 | C13: 1419903217123 | D13: เด็กชายอภิชาติ มงคล
A14: 10 | B14: 7941 | C14: 1419903274411 | D14: เด็กชายนพกร อำพล
A15: 11 | B15: 7944 | C15: 1419903216852 | D15: เด็กชายธนาวุฒิ นนทภา
A16: 12 | B16: 8006 | C16: 1104000409295 | D16: เด็กชายสัจธรรม เปลี่ยมสัจจา
... A31: 27 | B31: 8182 | C31: 1419903238368 | D31: เด็กชายไกรวิชญ์ ศรีธรรมา
A32: 28 | B32: 8356 | C32: 1559900737362 | D32: เด็กชายรุ่งเพชร บุญทาวงศ์ | E32: รอเอกสารย้าย
A33: 29
A34: 30
A35: 31
C36: นักเรียนชาย | D36: =COUNTIF(D5:D35,"เด็กชาย*") -> 15
C37: นักเรียนหญิง | D37: =COUNTIF(D5:D35,"เด็กหญิง*") -> 13
C38: รวม | D38: =SUM(D36:D37) -> 28

Sheet ป 2.2
A1: รายชื่อนักเรียนชั้น ป. 2/2
A2: ปีการศึกษา 2568
A3: โรงเรียนเทศบาล 1 หนองใส เทศบาลตำบลหนองบัว อำเภอเมือง จังหวัดอุดรธานี
A4: ที่ | B4: เลขนักเรียน | C4: เลขประจำตัวประชาชน | D4: ชื่อ-สกุล
A5: 1 | B5: 7861 | C5: 1419903266167 | D5: เด็กชายจิรโชติ แก้วคำ
A6: 2 | B6: 7864 | C6: 1419903235482 | D6: เด็กชายธนพัฒน์ ศรีธงชัย
A7: 3 | B7: 7874 | C7: 1419903261319 | D7: เด็กชายอมรเทพ ศรีพวง
A8: 4 | B8: 7892 | C8: 1209703207126 | D8: เด็กชายธนเดช ฝ้ายขาว
A9: 5 | B9: 7895 | C9: 1419903236241 | D9: เด็กชายนครินทร์ ลีพฤติ
A10: 6 | B10: 7899 | C10: 1209602007130 | D10: เด็กชายพุฒิธร จันทร์หอม
A11: 7 | B11: 7903 | C11: 1419903263141 | D11: เด็กชายวีรภัทร ภูดานา
A12: 8 | B12: 7906 | C12: 1411903278441 | D12: เด็กชายอัษศดิณย์ ธนปรีชากุล
A13: 9 | B13: 8060 | C13: 1110301658746 | D13: เด็กชายภูบดินทร์ วุฒิยา
A14: 10 | B14: 8063 | C14: 1419903253723 | D14: เด็กชายพุฒิเมธ เชื่อมแก้ว
A15: 11 | B15: 8163 | C15: 1419903296066 | D15: เด็กชายธนาทรัพย์ สินสีพิมพ์
A16: 12 | B16: 7746 | C16: 1419903195618 | D16: เด็กหญิงปิยธิดา ทองอ่อน
... A33: 29 | B33: 8243 | C33: 1418000180531 | D33: เด็กหญิงจุฬามณี จันทะแจ่ม
A34: 30
A35: 31
A36: 32
C37: นักเรียนชาย | D37: =COUNTIF(D5:D36,"เด็กชาย*") -> 12
C38: นักเรียนหญิง | D38: =COUNTIF(D5:D36,"เด็กหญิง*") -> 17
C39: รวม | D39: =SUM(D37:D38) -> 29

Sheet ป 2.3
A1: รายชื่อนักเรียนชั้น ป. 2/3
A2: ปีการศึกษา 2568
A3: โรงเรียนเทศบาล 1 หนองใส เทศบาลตำบลหนองบัว อำเภอเมือง จังหวัดอุดรธานี
A4: ที่ | B4: เลขนักเรียน | C4: เลขประจำตัวประชาชน | D4: ชื่อ-สกุล
A5: 1 | B5: 7862 | C5: 1419903239275 | D5: เด็กชายณัฐภูมิ เหล่าเจริญ
A6: 2 | B6: 7866 | C6: 1419903222071 | D6: เด็กชายธีราทร มหาฤทธิ์
A7: 3 | B7: 7872 | C7: 1709800716591 | D7: เด็กชายภีรภัทร อยู่พวง
A8: 4 | B8: 7875 | C8: 1419903250970 | D8: เด็กชายอาธิกร คอแก้ว
A9: 5 | B9: 7893 | C9: 1419903242527 | D9: เด็กชายธนภูมิ รักญาติ
A10: 6 | B10: 7896 | C10: 1419903235741 | D10: เด็กชายนัฐวุฒิ โคตรสมบัติ
A11: 7 | B11: 7900 | C11: 1419903246212 | D11: เด็กชายพุฒิพร อินทะวงษ์
A12: 8 | B12: 7904 | C12: 1419903236721 | D12: เด็กชายสุวิจักขณ์ สนสายสิงห์
A13: 9 | B13: 7940 | C13: 1419903243906 | D13: เด็กชายศราวุธ มะลิทอง
A14: 10 | B14: 8005 | C14: 1209602008764 | D14: เด็กชายศักรินทร์ บุญตั้ง
A15: 11 | B15: 8165 | C15: 1102004891057 | D15: เด็กชายอาทิวราห์ พรรณโส
A16: 12 | B16: 7753 | C16: 1419903216992 | D16: เด็กหญิงสุกัลยา วรรณทอง
... A32: 28 | B32: 8262 | C32: 1419903043940 | D32: เด็กหญิงนริศรา แสนวัง
A33: 29
A34: 30
A35: 31
A36: 32
C37: นักเรียนชาย | D37: =COUNTIF(D5:D36,"เด็กชาย*") -> 12
C38: นักเรียนหญิง | D38: =COUNTIF(D5:D36,"เด็กหญิง*") -> 16
C39: รวม | D39: =SUM(D37:D38) -> 28

Sheet ป 3.1
A1: รายชื่อนักเรียนชั้น ป. 3/1
A2: ปีการศึกษา 2568
A3: โรงเรียนเทศบาล 1 หนองใส เทศบาลตำบลหนองบัว อำเภอเมือง จังหวัดอุดรธานี
A4: ที่ | B4: เลขนักเรียน | C4: เลขประจำตัวประชาชน | D4: ชื่อ-สกุล
A5: 1 | B5: 7719 | C5: 1419903198927 | D5: เด็กชายกฤตบุญ สิมพา
A6: 2 | B6: 7724 | C6: 1419903193062 | D6: เด็กชายธนกร วันสะหล้า
A7: 3 | B7: 7727 | C7: 1419903224766 | D7: เด็กชายชนินทร ปราบพาล
A8: 4 | B8: 7730 | C8: 1419903189570 | D8: เด็กชายนฤบดินทร์ แสมหูม
A9: 5 | B9: 7735 | C9: 1102004815946 | D9: เด็กชายสิรวิชญ์ หอมชุ่ม
A10: 6 | B10: 7758 | C10: 1419903168661 | D10: เด็กชายกิตติคุณ จูวรรณะ
A11: 7 | B11: 7761 | C11: 1419903209686 | D11: เด็กชายธนกฤต ศรีธาตุ
A12: 8 | B12: 7764 | C12: 1419903203017 | D12: เด็กชายธันวากร วรงค์
A13: 9 | B13: 7765 | C13: 1419903194069 | D13: เด็กชายนฤบดินษ์ เสนาชัย
A14: 10 | B14: 7768 | C14: 1418800064919 | D14: เด็กชายพัชรพงศ์ บุญทาวงศ์
A15: 11 | B15: 7770 | C15: 1419903176346 | D15: เด็กชายภากร สุวรรณแสง
A16: 12 | B16: 7772 | C16: 1419903177130 | D16: เด็กชายวิทยารักษ์ แสงเสน
... A32: 28 | B32: 8212 | C32: 1419903101788 | D32: เด็กหญิงพรชิตา พิมลนอก
A33: 29
A34: 30
A35: 31
A36: 32
C37: นักเรียนชาย | D37: =COUNTIF(D5:D36,"เด็กชาย*") -> 14
C38: นักเรียนหญิง | D38: =COUNTIF(D5:D36,"เด็กหญิง*") -> 14
C39: รวม | D39: =SUM(D37:D38) -> 28

Sheet ป 3.2
A1: รายชื่อนักเรียนชั้น ป. 3/2
A2: ปีการศึกษา 2568
A3: โรงเรียนเทศบาล 1 หนองใส เทศบาลตำบลหนองบัว อำเภอเมือง จังหวัดอุดรธานี
A4: ที่ | B4: เลขนักเรียน | C4: เลขประจำตัวประชาชน | D4: ชื่อ-สกุล
A5: 1 | B5: 7725 | C5: 1419903163147 | D5: เด็กชายธนการ หล่อนน้อย
A6: 2 | B6: 7728 | C6: 1419903178438 | D6: เด็กชายธีปกรณ์ ไชยช่วย
A7: 3 | B7: 7731 | C7: 1103705237681 | D7: เด็กชายพงศ์พัฒน์ แย้มเจริญ
A8: 4 | B8: 7759 | C8: 1348500199682 | D8: เด็กชายจิรพัส วระชัย
A9: 5 | B9: 7762 | C9: 1209501364573 | D9: เด็กชายธนวัฒน์ วงศ์พันธ์
A10: 6 | B10: 7766 | C10: 1419903146994 | D10: เด็กชายปวรปรัชญ์ คนฉลาด
A11: 7 | B11: 7769 | C11: 1419903210854 | D11: เด็กชายพีรพัฒน์ ขันขจร
A12: 8 | B12: 7790 | C12: 1419903156647 | D12: เด็กชายบดินทร์ ทับเอี่ยม
A13: 9 | B13: 7938 | C13: 1419903179451 | D13: เด็กชายอรรตพล ศรีรักษา
A14: 10 | B14: 8065 | C14: 1419903193305 | D14: เด็กชายจิระนันท์ บุญหา
A15: 11 | B15: 7667 | C15: 1419903190845 | D15: เด็กหญิงพิชญาพร นอกเมือง
A16: 12 | B16: 7739 | C16: 1419903198358 | D16: เด็กหญิงธัญชนก พิมพาที
... A30: 26 | B30: 8068 | C30: 1419903212750 | D30: เด็กหญิงสุภัสตรา เทินสระเกษ
A31: 27 | B31: 8355 | C31: 1409904541986 | D31: เด็กชายธนัช ณะหนองตูม | E31: รอเอกสารย้าย
A32: 28
A33: 29
C34: นักเรียนชาย | D34: =COUNTIF(D5:D33,"เด็กชาย*") -> 14
C35: นักเรียนหญิง | D35: =COUNTIF(D5:D33,"เด็กหญิง*") -> 13
C36: รวม | D36: =SUM(D34:D35) -> 27

Sheet ป 3.3
A1: รายชื่อนักเรียนชั้น ป. 3/2
A2: ปีการศึกษา 2568
A3: โรงเรียนเทศบาล 1 หนองใส เทศบาลตำบลหนองบัว อำเภอเมือง จังหวัดอุดรธานี
A4: ที่ | B4: เลขนักเรียน | C4: เลขประจำตัวประชาชน | D4: ชื่อ-สกุล
A5: 1 | B5: 7722 | C5: 1419903167070 | D5: เด็กชายจิรายุ อินหวังสุข
A6: 2 | B6: 7726 | C6: 1419903182176 | D6: เด็กชายธนายุทธ อังกาพย์
A7: 3 | B7: 7729 | C7: 1419903224821 | D7: เด็กชายนพกร บุญผล
A8: 4 | B8: 7732 | C8: 1419903193143 | D8: เด็กชายพุฒิภัทร มุกดาม่วง
A9: 5 | B9: 7757 | C9: 1419903229920 | D9: เด็กชายกวิน อุ่นแสง
A10: 6 | B10: 7760 | C10: 1419903172162 | D10: เด็กชายณัฐพล จันทรวงศ์
A11: 7 | B11: 7763 | C11: 1419903182265 | D11: เด็กชายธนาธิป พลสมัคร
A12: 8 | B12: 7767 | C12: 1104301648485 | D12: เด็กชายปิยพัทธ์ อินทะวงษ์
A13: 9 | B13: 7771 | C13: 1419903207675 | D13: เด็กชายภูริภัทร เพชรสูงเนิน
A14: 10 | B14: 7860 | C14: 1419903192929 | D14: เด็กชายเกียรติพัทธ์ สุวรรณแสง
A15: 11 | B15: 8069 | C15: 1419903194468 | D15: เด็กชายกิตติยศ หมายมี
A16: 12 | B16: 8070 | C16: 1419903047007 | D16: เด็กชายชนาธิป สาอุบล
... A29: 25 | B29: 8239 | C29: 1418600222847 | D29: เด็กชายกัณตภณ พากเพียร
A30: 26 | B30: 8354 | C30: 1419903266795 | D30: เด็กชายพัฒนศักดิ์ ศรีอักษร | E30: รอเอกสารย้าย
A31: 27 | B31: 8357 | C31: 1239900618218 | D31: เด็กชายศิลา จงไพศาล
A32: 28
A33: 29
A34: 30
A35: 31
C36: นักเรียนชาย | D36: =COUNTIF(D5:D35,"เด็กชาย*") -> 16
C37: นักเรียนหญิง | D37: =COUNTIF(D5:D35,"เด็กหญิง*") -> 11
C38: รวม | D38: =SUM(D36:D37) -> 27

Sheet ป 4.1
A1: รายชื่อนักเรียนชั้น ป. 4/1
A2: ปีการศึกษา 2568
A3: โรงเรียนเทศบาล 1 หนองใส เทศบาลตำบลหนองบัว อำเภอเมือง จังหวัดอุดรธานี
A4: ที่ | B4: เลขนักเรียน | C4: เลขประจำตัวประชาชน | D4: ชื่อ-สกุล
A5: 1 | B5: 7505 | C5: 1419902935031 | D5: เด็กชายจิราธิวัฒน์ พิมพ์ทอง
A6: 2 | B6: 7631 | C6: 1419903138363 | D6: เด็กชายกิตติพงษ์ ลีพฤติ
A7: 3 | B7: 7636 | C7: 1419903123617 | D7: เด็กชายธิติสรณ์ พิมพาที
A8: 4 | B8: 7637 | C8: 1419903060852 | D8: เด็กชายนพดล สุขใจ
A9: 5 | B9: 7640 | C9: 1419903105066 | D9: เด็กชายอานันตะชัย ยุบลวัฒ
A10: 6 | B10: 7679 | C10: 1419903085707 | D10: เด็กชายศราวุฒิ สาครเจริญ
A11: 7 | B11: 7537 | C11: 1419903054062 | D11: เด็กชายชาคริสต์ เฟื่องทอง
A12: 8 | B12: 7544 | C12: 1419903059579 | D12: เด็กชายธนินท์ เหลืองจันทึก
A13: 9 | B13: 7650 | C13: 1419903137375 | D13: เด็กชายกฤติเดช แก่นจันทร์
A14: 10 | B14: 7656 | C14: 1419903078140 | D14: เด็กชายชนาธิป แก้ววงษา
A15: 11 | B15: 7660 | C15: 1419903075256 | D15: เด็กชายฤทธิพงษ์ แสงชา
A16: 12 | B16: 7686 | C16: 1419903128961 | D16: เด็กชายธวัชชัย วงศ์คำ
... A30: 26 | B30: 8261 | C30: 1479901183370 | D30: เด็กหญิงงามตา สุคนธชาติ
A31: 27
A32: 28
A33: 29
A34: 30
A35: 31
A36: 32
C37: นักเรียนชาย | D37: =COUNTIF(D5:D36,"เด็กชาย*") -> 13
C38: นักเรียนหญิง | D38: =COUNTIF(D5:D36,"เด็กหญิง*") -> 13
C39: รวม | D39: =SUM(D37:D38) -> 26

Sheet ป 4.2
A1: รายชื่อนักเรียนชั้น ป. 4/2
A2: ปีการศึกษา 2568
A3: โรงเรียนเทศบาล 1 หนองใส เทศบาลตำบลหนองบัว อำเภอเมือง จังหวัดอุดรธานี
A4: ที่ | B4: เลขนักเรียน | C4: เลขประจำตัวประชาชน | D4: ชื่อ-สกุล
A5: 1 | B5: 7629 | C5: 1419903089796 | D5: เด็กชายกรวิวัฒน์ กันหาลา
A6: 2 | B6: 7633 | C6: 1419903112437 | D6: เด็กชายณัฐชัย สระแก้ว
A7: 3 | B7: 7641 | C7: 1419903083763 | D7: เด็กชายอิทธิพัทธ์ คำมุกชิก
A8: 4 | B8: 7680 | C8: 1348600106597 | D8: เด็กชายศราวิน พักพล
A9: 5 | B9: 7538 | C9: 1419903058271 | D9: เด็กชายณัชพล นามวิชัย
A10: 6 | B10: 7628 | C10: 1419903152439 | D10: เด็กชายกมลเทพ สมนึก
A11: 7 | B11: 7653 | C11: 1419903143651 | D11: เด็กชายจิตติพัฒน์ วิสุงเร
A12: 8 | B12: 7657 | C12: 1419903113417 | D12: เด็กชายธนาธิป ธงน้อย
A13: 9 | B13: 7714 | C13: 1417100132198 | D13: เด็กชายธนกรณ์ กุลสุวรรณ
A14: 10 | B14: 8089 | C14: 1419903149381 | D14: เด็กชายภาคิน สีหอมไชย
A15: 11 | B15: 7525 | C15: 1419903081591 | D15: เด็กหญิงพุธิตา ขุนใหญ่
A16: 12 | B16: 7645 | C16: 1419903095656 | D16: เด็กหญิงปิยะนุช โชตะวัน
... A26: 22 | B26: 8352 | C26: 1648600130886 | D26: เด็กหญิงสุทธิดา อินตะนน
A27: 23
A28: 24
A29: 25
A30: 26
A31: 27
A32: 28
C33: นักเรียนชาย | D33: =COUNTIF(D5:D32,"เด็กชาย*") -> 10
C34: นักเรียนหญิง | D34: =COUNTIF(D5:D32,"เด็กหญิง*") -> 12
C35: รวม | D35: =SUM(D33:D34) -> 22

Sheet ป 4.3
A1: รายชื่อนักเรียนชั้น ป. 4/3
A2: ปีการศึกษา 2568
A3: โรงเรียนเทศบาล 1 หนองใส เทศบาลตำบลหนองบัว อำเภอเมือง จังหวัดอุดรธานี
A4: ที่ | B4: เลขนักเรียน | C4: เลขประจำตัวประชาชน | D4: ชื่อ-สกุล
A5: 1 | B5: 7630 | C5: 1419903032701 | D5: เด็กชายกันทรากร โคตรสมบัติ
A6: 2 | B6: 7635 | C6: 1419903101133 | D6: เด็กชายธนากร บุญสว่าง
A7: 3 | B7: 7638 | C7: 1419903131253 | D7: เด็กชายปัญญาคม เชิดทอง
A8: 4 | B8: 7829 | C8: 1460200149037 | D8: เด็กชายนราธิป ตาลอำไพ
A9: 5 | B9: 8107 | C9: 1409904512068 | D9: เด็กชายกันต์ธีร์ พาชารี
A10: 6 | B10: 7540 | C10: 1417100124055 | D10: เด็กชายศุภกิจ ไชยศรี
A11: 7 | B11: 7632 | C11: 1419903082805 | D11: เด็กชายจิรศักดิ์ ปริพันตัง
A12: 8 | B12: 7659 | C12: 1419903067857 | D12: เด็กชายปกรณ์ ดอนเมืองพรม
A13: 9 | B13: 7685 | C13: 1419903139815 | D13: เด็กชายไชยภพ จะโนรัตน์
A14: 10 | B14: 8094 | C14: 1419903108928 | D14: เด็กชายกัณตฌา สารีโท
A15: 11 | B15: 7642 | C15: 1309904331435 | D15: เด็กหญิงนัฐชานันท์ ขอย้ายกลาง
A16: 12 | B16: 7646 | C16: 1419903154121 | D16: เด็กหญิงลักขณา วิเศษศรี
... A28: 24 | B28: 8254 | C28: 1419903109134 | D28: เด็กหญิงศิวภา ใจสอาด
A29: 25
A30: 26
A31: 27
A32: 28
A33: 29
C37: นักเรียนชาย | D37: =COUNTIF(D5:D36,"เด็กชาย*") -> 10
C38: นักเรียนหญิง | D38: =COUNTIF(D5:D36,"เด็กหญิง*") -> 14
C39: รวม | D39: =SUM(D37:D38) -> 24

Sheet ป 5.1
A1: รายชื่อนักเรียนชั้น ป. 5/1
A2: ปีการศึกษา 2568
A3: โรงเรียนเทศบาล 1 หนองใส เทศบาลตำบลหนองบัว อำเภอเมือง จังหวัดอุดรธานี
A4: ที่ | B4: เลขนักเรียน | C4: เลขประจำตัวประชาชน | D4: ชื่อ-สกุล
A5: 1 | B5: 7322 | C5: 1419902998458 | D5: เด็กชายพีระนันท์ ปุริมายะตา
A6: 2 | B6: 7488 | C6: 1419902988274 | D6: เด็กชายณัฏฐกิตติ์ หล่อนน้อย
A7: 3 | B7: 7492 | C7: 1419903016420 | D7: เด็กชายภูริชยา มาสุข
A8: 4 | B8: 7497 | C8: 1209702944348 | D8: เด็กชายธีร์ธวัช บุญปากดี
A9: 5 | B9: 7500 | C9: 1419903069523 | D9: เด็กชายธนากร ลีพฤติ
A10: 6 | B10: 7529 | C10: 1419902990392 | D10: เด็กชายพัทธดนย์ นอกเมือง
A11: 7 | B11: 7532 | C11: 1419903012670 | D11: เด็กชายวีรวัฒน์ เพียงงาม
A12: 8 | B12: 7536 | C12: 1419903048321 | D12: เด็กชายศุภณัฐ์ จูวรรณะ
A13: 9 | B13: 7687 | C13: 1419902973527 | D13: เด็กชายจักรินทร์ ผลวาด
A14: 10 | B14: 7847 | C14: 1418000150284 | D14: เด็กชายชยางกูร ดาริวงษ์
A15: 11 | B15: 7961 | C15: 1419903506332 | D15: เด็กชายธีรเดช วัฒนวงค์
A16: 12 | B16: 8101 | C16: 1419903034908 | D16: เด็กชายจิรวัฒน์ บุญหา
... A32: 28 | B32: 8240 | C32: 1419903073326 | D32: เด็กชายพงษ์เจริญ โวหาร
A33: 29
A34: 30
C35: นักเรียนชาย | D35: =COUNTIF(D5:D34,"เด็กชาย*") -> 16
C36: นักเรียนหญิง | D36: =COUNTIF(D5:D34,"เด็กหญิง*") -> 12
C37: รวม | D37: =SUM(D35:D36) -> 28

Sheet ป 5.2
A1: รายชื่อนักเรียนชั้น ป. 5/2
A2: ปีการศึกษา 2568
A3: โรงเรียนเทศบาล 1 หนองใส เทศบาลตำบลหนองบัว อำเภอเมือง จังหวัดอุดรธานี
A4: ที่ | B4: เลขนักเรียน | C4: เลขประจำตัวประชาชน | D4: ชื่อ-สกุล
A5: 1 | B5: 7354 | C5: 1419902998610 | D5: เด็กชายปุณณวิช ลมดี
A6: 2 | B6: 7489 | C6: 1419902992590 | D6: เด็กชายจิรายุ สิทธิโห
A7: 3 | B7: 7498 | C7: 1560301574743 | D7: เด็กชายวีรภัทร์ วนาพงศากุล
A8: 4 | B8: 7501 | C8: 1419903078255 | D8: เด็กชายรพีภัทร โลมาอินทร์
A9: 5 | B9: 7527 | C9: 1419902982225 | D9: เด็กชายอาทิวราห์ เชิดทอง
A10: 6 | B10: 7530 | C10: 1419902990406 | D10: เด็กชายพันธวัช นอกเมือง
A11: 7 | B11: 7533 | C11: 1419903017531 | D11: เด็กชายธนันชัย สมนึก
A12: 8 | B12: 7539 | C12: 1419903063908 | D12: เด็กชายวินัย ทาอ่อน
A13: 9 | B13: 7709 | C13: 1819901001898 | D13: เด็กชายธนวัฒน์ แสนสุภา
A14: 10 | B14: 7858 | C14: 1419903042552 | D14: เด็กชายคมกิตย์ พรมมัชชะ
A15: 11 | B15: 7990 | C15: 1419900224218 | D15: เด็กชายพุทธคุณ ลีพฤติ
A16: 12 | B16: 8104 | C16: 1416900004134 | D16: เด็กชายภีระภัทร อนุสุวรรณ์
A17: 13 | B17: 7369 | C17: 1419902984210 | D17: เด็กหญิงณิชานันท์ สุทธิสาร
A18: 14 | B18: 7508 | C18: 1419902985666 | D18: เด็กหญิงกชพร หลักหนองบุ
A19: 15 | B19: 7514 | C19: 1419903025194 | D19: เด็กหญิงณัฐชา บุญสิทธิ์
A20: 16 | B20: 7520 | C20: 1419902958685 | D20: เด็กหญิงอาทิตติยา พัฒนันท์
A21: 17 | B21: 7523 | C21: 1419903073342 | D21: เด็กหญิงดากานดา ทรงศิลป์
A22: 18 | B22: 7548 | C22: 1419903002313 | D22: เด็กหญิงอนันดา แก้วคำ
A23: 19 | B23: 7551 | C23: 1419903019640 | D23: เด็กหญิงพิมพ์พลอย จันทรเสนา
A24: 20 | B24: 7555 | C24: 1210800044581 | D24: เด็กหญิงนิศามณี ดูวิเศษ
A25: 21 | B25: 7560 | C25: 1419903078590 | D25: เด็กหญิงพรธิดา เม่นโต
A26: 22 | B26: 7590 | C26: 1419903078131 | D26: เด็กหญิงพิชญา เศรษฐกิตย์
A27: 23 | B27: 7987 | C27: 1409904345923 | D27: เด็กหญิงสุณัฎฐา คงเมือง
A28: 24 | B28: 8066 | C28: 1419903077071 | D28: เด็กหญิงเมริษา ดูเซ
... A33: 29 | B33: 8351 | C33: 1419903058246 | D33: เด็กหญิงเมธาวี วรรณบุรณ์
A34: 30
A35: 31
A36: 32
C37: นักเรียนชาย | D37: =COUNTIF(D5:D36,"เด็กชาย*") -> 15
C38: นักเรียนหญิง | D38: =COUNTIF(D5:D36,"เด็กหญิง*") -> 14
C39: รวม | D39: =SUM(D37:D38) -> 29

Sheet ป 5.3
A1: รายชื่อนักเรียนชั้น ป. 5/3
A2: ปีการศึกษา 2568
A3: โรงเรียนเทศบาล 1 หนองใส เทศบาลตำบลหนองบัว อำเภอเมือง จังหวัดอุดรธานี
A4: ที่ | B4: เลขนักเรียน | C4: เลขประจำตัวประชาชน | D4: ชื่อ-สกุล
A5: 1 | B5: 7486 | C5: 1419902974991 | D5: เด็กชายภัทรบุตร แก้วคำ
A6: 2 | B6: 7490 | C6: 1419903001368 | D6: เด็กชายพีรภัทร โชตะวัน
A7: 3 | B7: 7496 | C7: 1419903026972 | D7: เด็กชายปุณณพัฒน์ พรมจันทร์
A8: 4 | B8: 7499 | C8: 1104200970632 | D8: เด็กชายกฤษฎา จันสุวรรณ
A9: 5 | B9: 7503 | C9: 1419903049620 | D9: เด็กชายรัชชานนท์ พัฒนันท์
A10: 6 | B10: 7528 | C10: 1418000148182 | D10: เด็กชายอนันตชัย แสงสุรินทร์
A11: 7 | B11: 7531 | C11: 1819900975155 | D11: เด็กชายณัฐวรรธน์ น้อยไทย
A12: 8 | B12: 7535 | C12: 1419903025976 | D12: เด็กชายนทีพัฒน์ ทองบ่อ
A13: 9 | B13: 7543 | C13: 1419903021652 | D13: เด็กชายฐิติวุฒิ ขจรกุลเดช
A14: 10 | B14: 7794 | C14: 1399900523836 | D14: เด็กชายพีรวัส พลอยเพ็ง
A15: 11 | B15: 7959 | C15: 1209702930061 | D15: เด็กชายธนกร ฝ้ายขาว
A16: 12 | B16: 7991 | C16: 1478600261931 | D16: เด็กชายกฤษฎา โคตรเรือง
A17: 13 | B17: 7381 | C17: 2419901086305 | D17: เด็กหญิงสุธิดา เบ้าหล่อเพชร
A18: 14 | B18: 7509 | C18: 1419903001686 | D18: เด็กหญิงอรวรรณ ดีหล้า
A19: 15 | B19: 7512 | C19: 1419903018007 | D19: เด็กหญิงณัฐชาวี มุกดาม่วง
A20: 16 | B20: 7515 | C20: 1419903036455 | D20: เด็กหญิงชญาดา หงษ์สีทอง
A21: 17 | B21: 7521 | C21: 1419903057827 | D21: เด็กหญิงอรณิชา โยธากุล
A22: 18 | B22: 7545 | C22: 1419902978830 | D22: เด็กหญิงศิรินภัส บุตรมาร
A23: 19 | B23: 7549 | C23: 1419903006971 | D23: เด็กหญิงชนลิดา โชตะศรี
A24: 20 | B24: 7552 | C24: 1419903021237 | D24: เด็กหญิงอริสรา บุตรดา
A25: 21 | B25: 7556 | C25: 1419903049336 | D25: เด็กหญิงวรัญญา วงค์คำ
A26: 22 | B26: 7561 | C26: 1419903038971 | D26: เด็กหญิงปราณี เริ่มศรี
... A31: 27 | B31: 8160 | C31: 1589800056886 | D31: เด็กชายสุขเกษม นิ่มขุนทด
A32: 28
A33: 29
A34: 30
A35: 31
C36: นักเรียนชาย | D36: =COUNTIF(D5:D35,"เด็กชาย*") -> 14
C37: นักเรียนหญิง | D37: =COUNTIF(D5:D35,"เด็กหญิง*") -> 13
C38: รวม | D38: =SUM(D36:D37) -> 27

Sheet ป 6.1 
A1: รายชื่อนักเรียนชั้น ป. 6/1
A2: ปีการศึกษา 2568
A3: โรงเรียนเทศบาล 1 หนองใส เทศบาลตำบลหนองบัว อำเภอเมือง จังหวัดอุดรธานี
A4: ที่ | B4: เลขนักเรียน | C4: เลขประจำตัวประชาชน | D4: ชื่อ-สกุล
A5: 1 | B5: 7308 | C5: 1418800054956 | D5: เด็กชายกมลโลจน์ โพธิ์ชัยหล้า
A6: 2 | B6: 7313 | C6: 1419902953357 | D6: เด็กชายธนกฤต อินทรปัญญา
A7: 3 | B7: 7318 | C7: 1419902932872 | D7: เด็กชายปัณณวรรธ สำมะลี
A8: 4 | B8: 7321 | C8: 1419902930934 | D8: เด็กชายพีรพัฒน์ สุวรรณแสง
A9: 5 | B9: 7350 | C9: 1419902982608 | D9: เด็กชายณัฐวุฒิ ตาปราบ
A10: 6 | B10: 7353 | C10: 1419902967145 | D10: เด็กชายปุณณภัทร มุกดาม่วง
A11: 7 | B11: 7357 | C11: 1419902924187 | D11: เด็กชายภานุวัฒน์ สุขเครือเกิด
A12: 8 | B12: 7570 | C12: 1480501383152 | D12: เด็กชายกิตติคมน์ รักษางาม
A13: 9 | B13: 7194 | C13: 2419901085961 | D13: เด็กหญิงจาริยา สารศิริ
A14: 10 | B14: 7327 | C14: 1478600256695 | D14: เด็กหญิงจิดาภา สมบัติดี
A15: 11 | B15: 7330 | C15: 1419902932635 | D15: เด็กหญิงณัฏฐกานต์ พรมมหาชัย
A16: 12 | B16: 7333 | C16: 1419902931931 | D16: เด็กหญิงนภัสวรรณ ยอดทอง
... A35: 31 | B35: 8263 | C35: 1398800049937 | D35: เด็กชายศิริศักดิ์ อ่อนศิริ
C37: นักเรียนชาย | D37: =COUNTIF(D5:D36,"เด็กชาย*") -> 10
C38: นักเรียนหญิง | D38: =COUNTIF(D5:D36,"เด็กหญิง*") -> 21
C39: รวม | D39: =SUM(D37:D38) -> 31

Sheet ป 6.2
A1: รายชื่อนักเรียนชั้น ป. 6/2
A2: ปีการศึกษา 2568
A3: โรงเรียนเทศบาล 1 หนองใส เทศบาลตำบลหนองบัว อำเภอเมือง จังหวัดอุดรธานี
A4: ที่ | B4: เลขนักเรียน | C4: เลขประจำตัวประชาชน | D4: ชื่อ-สกุล
A5: 1 | B5: 7309 | C5: 1419902966408 | D5: เด็กชายชาญยุทธ โพธิมล
A6: 2 | B6: 7316 | C6: 1419902971509 | D6: เด็กชายธีรธร แก้วคำ
A7: 3 | B7: 7319 | C7: 141902975806 | D7: เด็กชายพงศกร หลักหนองบุ
A8: 4 | B8: 7347 | C8: 1419902922940 | D8: เด็กชายชัยยุทธ รูปงาม
A9: 5 | B9: 7351 | C9: 1419902928174 | D9: เด็กชายธนโชติ เคหาลัย
A10: 6 | B10: 7355 | C10: 1419902990732 | D10: เด็กชายพงศธร เคหาสัย
A11: 7 | B11: 7358 | C11: 1419902961015 | D11: เด็กชายอภินัทธ์ คำกันหา
A12: 8 | B12: 7565 | C12: 1380100046105 | D12: เด็กชายธนทรัพย์ อินทร์แสง
A13: 9 | B13: 7617 | C13: 1101700544621 | D13: เด็กชายเจอร์นี่ แมทธิว โกร์
A14: 10 | B14: 7842 | C14: 1419200046503 | D14: เด็กชายณัฐนนท์ หล่อนน้อย
A15: 11 | B15: 7953 | C15: 1419902966904 | D15: เด็กชายประกาศิต สุขประเสริฐ
A16: 12 | B16: 7360 | C16: 1419902947101 | D16: เด็กหญิงกัญนิภา นอกเมือง
... A36: 32 | B36: 8258 | C36: 1419902988258 | D36: เด็กชายอิสรภาพ กันตะบุตร
A37: 33 | B37: 8353 | C37: 1769901011002 | D37: เด็กหญิงศิวเนตร อินทร์เรืองศร | E37: รอเอกสารย่าย
C38: นักเรียนชาย | D38: =COUNTIF(D5:D37,"เด็กชาย*") -> 13
C39: นักเรียนหญิง | D39: =COUNTIF(D5:D37,"เด็กหญิง*") -> 20
C40: รวม | D40: =SUM(D38:D39) -> 33

Sheet ป 6.3
A1: รายชื่อนักเรียนชั้น ป. 6/3
A2: ปีการศึกษา 2568
A3: โรงเรียนเทศบาล 1 หนองใส เทศบาลตำบลหนองบัว อำเภอเมือง จังหวัดอุดรธานี
A4: ที่ | B4: เลขนักเรียน | C4: เลขประจำตัวประชาชน | D4: ชื่อ-สกุล
A5: 1 | B5: 7311 | C5: 1419902972521 | D5: เด็กชายณัฐนนท์ เคนถาวร
A6: 2 | B6: 7317 | C6: 1419902991291 | D6: เด็กชายนฤเบศ เกษแก้ว
A7: 3 | B7: 7320 | C7: 1100704449720 | D7: เด็กชายพลวรรธน์ แย้มเจริญ
A8: 4 | B8: 7348 | C8: 1419902981288 | D8: เด็กชายชินกฤต ลีพฤติ
A9: 5 | B9: 7352 | C9: 1419902967951 | D9: เด็กชายธันวา ทศกรรณ์
A10: 6 | B10: 7356 | C10: 1419902930322 | D10: เด็กชายภากร เทสิรักษ์
A11: 7 | B11: 7359 | C11: 1419902937980 | D11: เด็กชายสรนันท์ ขจรกุลเดช
A12: 8 | B12: 7566 | C12: 1419902965266 | D12: เด็กชายอภิชาต แสงป้อง
A13: 9 | B13: 7674 | C13: 1419902921803 | D13: เด็กชายสุขพรันต์ โคตรอาษา
A14: 10 | B14: 7982 | C14: 1102004490524 | D14: เด็กชายชนะพล ก่ำเพชร
A15: 11 | B15: 7325 | C15: 1419902939915 | D15: เด็กหญิงกรกมล แสนสุภา
A16: 12 | B16: 7326 | C16: 1419902939931 | D16: เด็กหญิงกรชนก แสนสุภา
... A36: 32 | B36: 8350 | C36: 1417500141135 | D36: เด็กชายอนวัช สุจิมงคล
C37: นักเรียนชาย | D37: =COUNTIF(D5:D36,"เด็กชาย*") -> 15
C38: นักเรียนหญิง | D38: =COUNTIF(D5:D36,"เด็กหญิง*") -> 17
C39: รวม | D39: =SUM(D37:D38) -> 32

Sheet ม 1.1
A1: รายชื่อนักเรียนชั้น ม. 1/1
A2: ปีการศึกษา 2568
A3: โรงเรียนเทศบาล 1 หนองใส เทศบาลตำบลหนองบัว อำเภอเมือง จังหวัดอุดรธานี
A4: ที่ | B4: เลขนักเรียน | C4: เลขประจำตัวประชาชน | D4: ชื่อ-สกุล
A5: 1 | B5: 7404 | C5: 1419902760486 | D5: เด็กชายธรรมสรณ์ วาเสนัง
A6: 2 | B6: 7046 | C6: 1419902814250 | D6: เด็กชายก้องภพ คันทะมาร
A7: 3 | B7: 7060 | C7: 1419902790903 | D7: เด็กชายศุขสวัสดิ์ ขจรกุลเดช
A8: 4 | B8: 7174 | C8: 1460200144795 | D8: เด็กชายกฤษณะ มาตย์งามเมือง
A9: 5 | B9: 7177 | C9: 1419902868325 | D9: เด็กชายณัฐพงษ์ แก้วคำ
A10: 6 | B10: 7181 | C10: 1419902881470 | D10: เด็กชายธเนษฐ ฝางแก้ว
A11: 7 | B11: 7185 | C11: 1419902844043 | D11: เด็กชายสดุดี วงค์โชติ
A12: 8 | B12: 7188 | C12: 1419902886111 | D12: เด็กชายอาทิตย์ จันทร์อิน
A13: 9 | B13: 7223 | C13: 1349200141761 | D13: เด็กชายชาลิต แสนเจริญสุข
A14: 10 | B14: 7226 | C14: 1419902897023 | D14: เด็กชายเตชิต สุวรรณดี
A15: 11 | B15: 7229 | C15: 1170601294073 | D15: เด็กชายธีนากร ประโลม
A16: 12 | B16: 7231 | C16: 1419902912456 | D16: เด็กชายภาคภูมิ สุริยะมาตย์
... A49: 45 | B49: 8341 | C49: 1419902882174 | D49: เด็กหญิงสุชานาฏ เจริญศิริ
C50: นักเรียนชาย | D50: =COUNTIF(D5:D49,"เด็กชาย*") -> 24
C51: นักเรียนหญิง | D51: =COUNTIF(D5:D49,"เด็กหญิง*") -> 21
C52: รวม | D52: =SUM(D50:D51) -> 45

Sheet ม 1.2
A1: รายชื่อนักเรียนชั้น ม. 1/2
A2: ปีการศึกษา 2568
A3: โรงเรียนเทศบาล 1 หนองใส เทศบาลตำบลหนองบัว อำเภอเมือง จังหวัดอุดรธานี
A4: ที่ | B4: เลขนักเรียน | C4: เลขประจำตัวประชาชน | D4: ชื่อ-สกุล
A5: 1 | B5: 7013 | C5: 1419902834781 | D5: เด็กชายธีรพงษ์ โชติรักษา
A6: 2 | B6: 8231 | C6: 1770600406298 | D6: เด็กชายอรรถพันธ์ คนึงคิด
A7: 3 | B7: 7050 | C7: 1419902790962 | D7: เด็กชายธนพล เทสิรักษ์
A8: 4 | B8: 7156 | C8: 1209601777438 | D8: เด็กชายธัญเทพ ผ่องใสสีงามวิไล
A9: 5 | B9: 7175 | C9: 1419902856815 | D9: เด็กชายจิรวิชญ์ เสาร์แก้ว
A10: 6 | B10: 7179 | C10: 1419902836172 | D10: เด็กชายทินภัทร เนื่องกันยา
A11: 7 | B11: 7184 | C11: 1419902868538 | D11: เด็กชายร่มธรรม คำบัวเรียน
A12: 8 | B12: 7187 | C12: 1418000135650 | D12: เด็กชายสุรศักดิ์ มูลเหล็ก
A13: 9 | B13: 7220 | C13: 1200901691816 | D13: เด็กชายชนันธร สินศรีพิมพ์
A14: 10 | B14: 7224 | C14: 1419902898747 | D14: เด็กชายฐีรวัฒน์ คำภาศรี
A15: 11 | B15: 7228 | C15: 1419902883154 | D15: เด็กชายธีนพัน เหล็กพล
A16: 12 | B16: 7230 | C16: 1419902891211 | D16: เด็กชายพริษฐ์ นินทะปัก
... A38: 34 | B38: 7240 | C38: 1839902254358 | D38: เด็กหญิงฐิติกาญจน์ ทองสมบูรณ์
A39: 35 | B39: 7247 | C39: 1610601219697 | D39: เด็กหญิงลักขนา บรรเทาทุกข์ | N39: .
A40: 36 | B40: 7251 | C40: 1419902875879 | D40: เด็กหญิงสุธิดา จันทวงษ์
A41: 37 | B41: 7464 | C41: 1419902867949 | D41: เด็กหญิงแคทเธอร์ไรน์ บุทเลอร์ | N41: .
A42: 38 | B42: 8205 | C42: 1709100058388 | D42: เด็กหญิงปัณฑารีย์ ปานสำราญ
A43: 39 | B43: 8345 | C43: 1419902888776 | D43: เด็กหญิงกันต์กนิษฐ์ คุโน
A44: 40 | B44: 8346 | C44: 1419902861703 | D44: เด็กหญิงจิราภา แซ่กล
A45: 41 | B45: 8347 | C45: 1419902815132 | D45: เด็กหญิงรลิตา แน่นอุดร
A46: 42 | B46: 8348 | C46: 1419902882492 | D46: เด็กหญิงวรรณวิพา คงคูณสิน
A47: 43 | B47: 8349 | C47: 1419902837268 | D47: เด็กหญิงสิริกร ปังคะบุตร
C48: นักเรียนชาย | D48: =COUNTIF(D5:D47,"เด็กชาย*") -> 25
C49: นักเรียนหญิง | D49: =COUNTIF(D5:D47,"เด็กหญิง*") -> 18
C50: รวม | D50: =SUM(D48:D49) -> 43

Sheet ม 2.1
A1: รายชื่อนักเรียนชั้น ม. 2/1
A2: ปีการศึกษา 2568
A3: โรงเรียนเทศบาล 1 หนองใส เทศบาลตำบลหนองบัว อำเภอเมือง จังหวัดอุดรธานี
A4: ที่ | B4: เลขนักเรียน | C4: เลขประจำตัวประชาชน | D4: ชื่อ-สกุล
A5: 1 | B5: 6963 | C5: 1419902733696 | D5: เด็กชายกันตพร กำจัดภัย
A6: 2 | B6: 6947 | C6: 1419902754869 | D6: เด็กชายรัฐกร สีดาดาน
A7: 3 | B7: 6997 | C7: 1419902746904 | D7: เด็กชายมหัศจรรย์ จันทะวงศ์
A8: 4 | B8: 7004 | C8: 1819100036766 | D8: เด็กชายกฤตนัย ไตรแก้ว
A9: 5 | B9: 7007 | C9: 1419902790385 | D9: เด็กชายจักรพันธ์ แก้วคำ
A10: 6 | B10: 7010 | C10: 1419902758741 | D10: เด็กชายณัฐพงษ์ มหาชัย
A11: 7 | B11: 7016 | C11: 1419902771054 | D11: เด็กชายบวรวัชร ศรีขำหาญ
A12: 8 | B12: 7017 | C12: 1419902797240 | D12: เด็กชายธนกฤต แสนบุญ
A13: 9 | B13: 7019 | C13: 1419902785772 | D13: เด็กชายพรรดร เชื่อมแก้ว
A14: 10 | B14: 7021 | C14: 1419902819171 | D14: เด็กชายวุฒิชัย โคตรสมบัติ
A15: 11 | B15: 7052 | C15: 1419902801310 | D15: เด็กชายนพกร สิงห์กลาง
A16: 12 | B16: 7058 | C16: 1419902782145 | D16: เด็กชายรัชทชาติ ชื่นตา
... A41: 37 | B41: 8222 | C41: 1459700075316 | D41: เด็กชายณฐกร แก้วมณี
C44: นักเรียนชาย | D44: =COUNTIF(D5:D43,"เด็กชาย*") -> 18
C45: นักเรียนหญิง | D45: =COUNTIF(D5:D43,"เด็กหญิง*") -> 19
C46: รวม | D46: =SUM(D44:D45) -> 37

Sheet ม 2.2
A1: รายชื่อนักเรียนชั้น ม. 2/2
A2: ปีการศึกษา 2568
A3: โรงเรียนเทศบาล 1 หนองใส เทศบาลตำบลหนองบัว อำเภอเมือง จังหวัดอุดรธานี
A4: ที่ | B4: เลขนักเรียน | C4: เลขประจำตัวประชาชน | D4: ชื่อ-สกุล
A5: 1 | B5: 6962 | C5: 1419902720352 | D5: เด็กชายภูษิต บุระวัตร
A6: 2 | B6: 6959 | C6: 1419902732440 | D6: เด็กชายธีรพัฒน์ ยศม้าว
A7: 3 | B7: 7003 | C7: 1419902814411 | D7: เด็กชายกนกกร มุกดาม่วง
A8: 4 | B8: 7006 | C8: 1849902268961 | D8: เด็กชายจักรกรี แก้วสมุทร
A9: 5 | B9: 7008 | C9: 1220900062858 | D9: เด็กชายจักรภัทร จันทนะ
A10: 6 | B10: 7009 | C10: 1419902838647 | D10: เด็กชายฐิติศักดิ์ รักญาติ
A11: 7 | B11: 7011 | C11: 1419902796375 | D11: เด็กชายธนพล สิงห์จันทร์
A12: 8 | B12: 7020 | C12: 1419902819561 | D12: เด็กชายรัฏธภูมิ คำมุกชิก
A13: 9 | B13: 7022 | C13: 1419902786183 | D13: เด็กชายสุขเกษม พงอาษาไทย
A14: 10 | B14: 7023 | C14: 1419902742399 | D14: เด็กชายอัสนี โพธิ์พิมพ์
A15: 11 | B15: 7051 | C15: 1419902784202 | D15: เด็กชายธีรเดช ลาเสือ
A16: 12 | B16: 7053 | C16: 1419902765280 | D16: เด็กชายปฏิภาณ แก้วประสิทธิ์
... A22: 18 | B22: 8173 | C22: 1419902739614 | D22: เด็กชายณัฐวุฒิ วงต์โชติ
B23: 8082 | C23: 1419902695498 | D23: เด็กชายณัฐพัฒน์ เบิกสีใส
B24: 8196 | C24: 1399400093638 | D24: เด็กชายบารมี เพ็งน้อย
A25: 19 | B25: 7026 | C25: 1419902799391 | D25: เด็กหญิงจุฑาทิพย์ ญาณสุวรรณ์
A26: 20 | B26: 7029 | C26: 1419903229920 | D26: เด็กหญิงชุติมณฑน์ อุ่นแสง
A27: 21 | B27: 7037 | C27: 1419902768606 | D27: เด็กหญิงปุณญชา พรมจันทร์
A28: 22 | B28: 7039 | C28: 1419902798971 | D28: เด็กหญิงพรสวรรค์ เวียงสิมมา
A29: 23 | B29: 7044 | C29: 1419902821183 | D29: เด็กหญิงสุทธิดา เชิดทอง
A30: 24 | B30: 7067 | C30: 1419902788241 | D30: เด็กหญิงณิชารีย์ คำมุกชิก
A31: 25 | B31: 7077 | C31: 1419902774851 | D31: เด็กหญิงพีชญา สว่างพิทัก
A32: 26 | B32: 7082 | C32: 1418600168010 | D32: เด็กหญิงอรจิรา ชมภูชน
A33: 27 | B33: 7406 | C33: 1139900681506 | D33: เด็กหญิงปิยมนต์ ขาวสะอาด
A34: 28 | B34: 7407 | C34: 1419902797631 | D34: เด็กหญิงกนกวรรณ ปราบพาล
A35: 29 | B35: 7812 | C35: 1459400016845 | D35: เด็กหญิงปภัสสร นาไชย
A36: 30 | B36: 7983 | C36: 1648600052851 | D36: เด็กหญิงณัฏฐธิดา เพ็งสุวรรณ์
... A39: 33 | B39: 8176 | C39: 1419902773502 | D39: เด็กหญิงพิรดาพร บุญทน
A40: 34
A41: 35
A42: 36 | B42: 8260 | C42: 1419902807491 | D42: เด็กชายธนทรัพย์ ไพรสณฑ์
A43: 37
A44: 38
A45: 39
C47: นักเรียนชาย | D47: =COUNTIF(D5:D42,"เด็กชาย*") -> 21
C48: นักเรียนหญิง | D48: =COUNTIF(D5:D42,"เด็กหญิง*") -> 15
C49: รวม | D49: =SUM(D47:D48) -> 36

Sheet ม3.1
A1: รายชื่อนักเรียนชั้น ม. 3/1
A2: ปีการศึกษา 2568
A3: โรงเรียนเทศบาล 1 หนองใส เทศบาลตำบลหนองบัว อำเภอเมือง จังหวัดอุดรธานี
A4: ที่ | B4: เลขนักเรียน | C4: เลขประจำตัวประชาชน | D4: ชื่อ-สกุล
A5: 1 | B5: 6944 | C5: 1419902702991 | D5: เด็กชายเมคิณ วงศ์คำ
A6: 2 | B6: 6948 | C6: 1419902722762 | D6: เด็กชายนิรันดร์ ลีพฤติ
A7: 3 | B7: 6952 | C7: 1419902689773 | D7: เด็กชายภานุกร สุขเครือเกิด
A8: 4 | B8: 6955 | C8: 1419902709740 | D8: เด็กชายลภณวิช วิเศษศรี
A9: 5 | B9: 6957 | C9: 1419902740451 | D9: เด็กชายสัญชัย มุกดาม่วง
A10: 6 | B10: 6969 | C10: 1419902718731 | D10: เด็กชายรัฏธกรณ์ คำมุกชิก
A11: 7 | B11: 6979 | C11: 1419902700483 | D11: เด็กชายสิรวิชญ์ ฝุ่นมะนาว
A12: 8 | B12: 6981 | C12: 1419930124615 | D12: เด็กชายจีรชนม์ ทรงศิลป์
A13: 9 | B13: 6986 | C13: 1419902709367 | D13: เด็กชายธนภัทร บุญน้อย
A14: 10 | B14: 6992 | C14: 1419902692715 | D14: เด็กชายวิชัย อินทะวงษ์
A15: 11 | B15: 7117 | C15: 1419902727314 | D15: เด็กชายรัชพล คำมุกชิก
A16: 12 | B16: 7153 | C16: 1419902670541 | D16: เด็กชายนันทวัฒน์ แสนหาญ
... A29: 25 | B29: 8077 | C29: 1418800044055 | D29: เด็กหญิงจันทกานต์ จอนขุน
A30: 26
A31: 27
A32: 28
C33: นักเรียนชาย | D33: =COUNTIF(D5:D32,"เด็กชาย*") -> 16
C34: นักเรียนหญิง | D34: =COUNTIF(D5:D32,"เด็กหญิง*") -> 9
C35: รวม | D35: =SUM(D33:D34) -> 25

Sheet ม3.2
A1: รายชื่อนักเรียนชั้น ม. 3/2
A2: ปีการศึกษา 2568
A3: โรงเรียนเทศบาล 1 หนองใส เทศบาลตำบลหนองบัว อำเภอเมือง จังหวัดอุดรธานี
A4: ที่ | B4: เลขนักเรียน | C4: เลขประจำตัวประชาชน | D4: ชื่อ-สกุล
A5: 1 | B5: 6836 | C5: 1419902623331 | D5: เด็กชายณัฐวัฒน์ คะเนเร็ว
A6: 2 | B6: 6942 | C6: 1419902671548 | D6: เด็กชายกิตติพศ แก้วคำฝา
A7: 3 | B7: 6946 | C7: 1419902692341 | D7: เด็กชายปัญจามินทร์ น้อยไทย
A8: 4 | B8: 6951 | C8: 1419902688131 | D8: เด็กชายสิทธิชัย โคตรสมบัติ
A9: 5 | B9: 6956 | C9: 1419902693452 | D9: เด็กชายชนาธิป คำมุกชิก
A10: 6 | B10: 6968 | C10: 1419902705205 | D10: เด็กชายพรชัย แสงจันทร์
A11: 7 | B11: 6970 | C11: 1419902716568 | D11: เด็กชายวิภพ ชั่งดี
A12: 8 | B12: 6975 | C12: 1419902674385 | D12: เด็กชายศุภชัย บรรยงค์
A13: 9 | B13: 6980 | C13: 1419902688491 | D13: เด็กชายปริญญา คำมุกชิก
A14: 10 | B14: 6985 | C14: 1419902719125 | D14: เด็กชายธนวัฒน์ ชูพรมวงศ์
A15: 11 | B15: 6989 | C15: 1610601216205 | D15: เด็กชายอทิด บรรเทาทุกข์
A16: 12 | B16: 6998 | C16: 1419902713453 | D16: เด็กชายวุฒิชัย แสงทองคิด
... A27: 23 | B27: 7438 | C27: 1419902718498 | D27: เด็กหญิงสุภาวดี ลาศศรีลา
A28: 24
A29: 25
A30: 26
A31: 27
A32: 28
A33: 29
A34: 30
A35: 31
A36: 32
C38: นักเรียนชาย | D38: =COUNTIF(D5:D37,"เด็กชาย*") -> 15
C39: นักเรียนหญิง | D39: =COUNTIF(D5:D37,"เด็กหญิง*") -> 8
C40: รวม | D40: =SUM(D38:D39) -> 23

Sheet Sheet3

Sheet Sheet2

Sheet Sheet6
